BEGIN:VCALENDAR
VERSION:2.0
PRODID:-//ArtTable - ECPv6.15.20//NONSGML v1.0//EN
CALSCALE:GREGORIAN
METHOD:PUBLISH
X-WR-CALNAME:ArtTable
X-ORIGINAL-URL:https://www.arttable.org
X-WR-CALDESC:Events for ArtTable
REFRESH-INTERVAL;VALUE=DURATION:PT1H
X-Robots-Tag:noindex
X-PUBLISHED-TTL:PT1H
BEGIN:VTIMEZONE
TZID:America/Los_Angeles
BEGIN:DAYLIGHT
TZOFFSETFROM:-0800
TZOFFSETTO:-0700
TZNAME:PDT
DTSTART:20190310T100000
END:DAYLIGHT
BEGIN:STANDARD
TZOFFSETFROM:-0700
TZOFFSETTO:-0800
TZNAME:PST
DTSTART:20191103T090000
END:STANDARD
BEGIN:DAYLIGHT
TZOFFSETFROM:-0800
TZOFFSETTO:-0700
TZNAME:PDT
DTSTART:20200308T100000
END:DAYLIGHT
BEGIN:STANDARD
TZOFFSETFROM:-0700
TZOFFSETTO:-0800
TZNAME:PST
DTSTART:20201101T090000
END:STANDARD
BEGIN:DAYLIGHT
TZOFFSETFROM:-0800
TZOFFSETTO:-0700
TZNAME:PDT
DTSTART:20210314T100000
END:DAYLIGHT
BEGIN:STANDARD
TZOFFSETFROM:-0700
TZOFFSETTO:-0800
TZNAME:PST
DTSTART:20211107T090000
END:STANDARD
END:VTIMEZONE
BEGIN:VTIMEZONE
TZID:America/New_York
BEGIN:DAYLIGHT
TZOFFSETFROM:-0500
TZOFFSETTO:-0400
TZNAME:EDT
DTSTART:20190310T070000
END:DAYLIGHT
BEGIN:STANDARD
TZOFFSETFROM:-0400
TZOFFSETTO:-0500
TZNAME:EST
DTSTART:20191103T060000
END:STANDARD
BEGIN:DAYLIGHT
TZOFFSETFROM:-0500
TZOFFSETTO:-0400
TZNAME:EDT
DTSTART:20200308T070000
END:DAYLIGHT
BEGIN:STANDARD
TZOFFSETFROM:-0400
TZOFFSETTO:-0500
TZNAME:EST
DTSTART:20201101T060000
END:STANDARD
BEGIN:DAYLIGHT
TZOFFSETFROM:-0500
TZOFFSETTO:-0400
TZNAME:EDT
DTSTART:20210314T070000
END:DAYLIGHT
BEGIN:STANDARD
TZOFFSETFROM:-0400
TZOFFSETTO:-0500
TZNAME:EST
DTSTART:20211107T060000
END:STANDARD
END:VTIMEZONE
BEGIN:VEVENT
DTSTART;TZID=America/Los_Angeles:20200118T140000
DTEND;TZID=America/Los_Angeles:20200118T150000
DTSTAMP:20260424T041652
CREATED:20191211T175352Z
LAST-MODIFIED:20210216T195024Z
UID:1742-1579356000-1579359600@www.arttable.org
SUMMARY:NOCAL | ArtTable + Untitled: Re-Imagining Equity in the Art World 2020
DESCRIPTION:Image: Surrogate: Mother to Myself\, 2017 Indira Allegra. Redwood\, 600 feet of cotton lead line rope\, brass\, steel. 65 x 54 x 18 IN | 165 x 137 x 4.5 CM \n  \nFor ArtTable’s third panel discussion at Untitled’s San Francisco edition and to celebrate ArtTable’s 40th year advocating for women working in the visual arts\, three noted San Francisco artists working in diverse media will discuss their art practices\, concerns and challenges\, and where the equity movement might lead in coming years.  \nFeaturing artists Indira Allegra\, Katherine Vetne and Erica Deeman\, will joined by Heidi Rabben\, Senior Curator at the Contemporary Jewish Museum. The conversation will be moderated by James Voorhies\, Chair\, Graduate Program in Curatorial Practice\, California College of the Arts\, with an audience Q&A to follow.  \nAre you an ArtTable member? Email programs@arttable.org to receive a discounted passcode for this event and Untitled’s program. \nThank you to Tracy Freedman\, Executive Committee\, ArtTable Northern California.  \n 
URL:https://www.arttable.org/event/nocal-arttable-untitled-re-imagining-equity-in-the-art-world-2020/
LOCATION:Untitled\, Art San Francisco  Pier 35\, 1454 The Embarcadero\, San Francisco\, CA\, United States
CATEGORIES:Northern California
ORGANIZER;CN="ArtTable Northern California":MAILTO:programs@arttable.org
END:VEVENT
BEGIN:VEVENT
DTSTART;TZID=America/New_York:20200118T153000
DTEND;TZID=America/New_York:20200118T180000
DTSTAMP:20260424T041652
CREATED:20200107T205306Z
LAST-MODIFIED:20210216T194950Z
UID:1986-1579361400-1579370400@www.arttable.org
SUMMARY:POSTPONED: DC | Curator's Talk and Preview of Moira Dryer
DESCRIPTION:Image: The Power of Suggestion\, Moira Dryer\, 1991 \nThis event has been postponed! Check back soon for a new date. \nGreater Reston Arts Center (GRACE) will present a selection of works by artist Moira Dryer (b. 1957\, Toronto\, Ontario; d. 1992\, New York\, New York) in conjunction with the major exhibition of Dryer’s early work at the Phillips Collection in Washington\, DC\, entitled Moira Dryer: Back in Business. Both exhibitions are curated by GRACE Executive Director and Curator Lily Siegel. \nDryer is primarily known for her large abstract paintings on wood panels. This exhibition will provide an intimate look at the artist’s practice through works given as gifts to friends and family\, many never previously shown publicly. Her work has been exhibited extensively across the United States in institutions such as Boston’s Institute for Contemporary Art; Whitney Museum of Modern Art; and The Museum of Modern Art\, New York. Dryer’s work is included in the permanent collections of The Solomon R. Guggenheim Museum\, New York; Museum of Contemporary Art\, Los Angeles; and Museum of Modern Art\, New York. This exhibition is generously supported in part by Robert and Theresa Goudie and ARTSFAIRFAX. \n3:30 pm – Private champagne toast with ArtTable \n4 – 6 pm – Curator’s talk & Opening Reception \nWho’s attending this program? Click here to see who’s currently registered! \nThank you to Elizabeth Denholm\, Advancement Officer\, Greater Reston Arts Center. 
URL:https://www.arttable.org/event/dc-curators-talk-and-preview-of-moira-dryer-yours-for-the-taking-champagne-toast/
LOCATION:Greater Reston Arts Center\, 12001 Market St #103\, Reston\, VA\, 20190\, United States
CATEGORIES:Washington, D.C.
ATTACH;FMTTYPE=image/jpeg:https://www.arttable.org/wp-content/uploads/2020/01/image001-8.jpg
ORGANIZER;CN="ArtTable Washington%2C D.C.":MAILTO:programs@arttable.org
END:VEVENT
END:VCALENDAR