BEGIN:VCALENDAR
VERSION:2.0
PRODID:-//ArtTable - ECPv6.15.20//NONSGML v1.0//EN
CALSCALE:GREGORIAN
METHOD:PUBLISH
X-WR-CALNAME:ArtTable
X-ORIGINAL-URL:https://www.arttable.org
X-WR-CALDESC:Events for ArtTable
REFRESH-INTERVAL;VALUE=DURATION:PT1H
X-Robots-Tag:noindex
X-PUBLISHED-TTL:PT1H
BEGIN:VTIMEZONE
TZID:America/New_York
BEGIN:DAYLIGHT
TZOFFSETFROM:-0500
TZOFFSETTO:-0400
TZNAME:EDT
DTSTART:20210314T070000
END:DAYLIGHT
BEGIN:STANDARD
TZOFFSETFROM:-0400
TZOFFSETTO:-0500
TZNAME:EST
DTSTART:20211107T060000
END:STANDARD
BEGIN:DAYLIGHT
TZOFFSETFROM:-0500
TZOFFSETTO:-0400
TZNAME:EDT
DTSTART:20220313T070000
END:DAYLIGHT
BEGIN:STANDARD
TZOFFSETFROM:-0400
TZOFFSETTO:-0500
TZNAME:EST
DTSTART:20221106T060000
END:STANDARD
BEGIN:DAYLIGHT
TZOFFSETFROM:-0500
TZOFFSETTO:-0400
TZNAME:EDT
DTSTART:20230312T070000
END:DAYLIGHT
BEGIN:STANDARD
TZOFFSETFROM:-0400
TZOFFSETTO:-0500
TZNAME:EST
DTSTART:20231105T060000
END:STANDARD
END:VTIMEZONE
BEGIN:VEVENT
DTSTART;TZID=America/New_York:20220203T080000
DTEND;TZID=America/New_York:20220203T090000
DTSTAMP:20260425T184030
CREATED:20220107T225004Z
LAST-MODIFIED:20220110T155120Z
UID:7568-1643875200-1643878800@www.arttable.org
SUMMARY:DC | BreakfastTable with Kate Haw
DESCRIPTION:Join ArtTable’s DC Chapter for February’s BreakfastTable with Kate Haw\, Collections\, Exhibitions\, and Programs Officer at the National Gallery of Art. Kate will discuss her position overseeing the departments of exhibitions and installation design; the office of the registrar; the education and public programs department; and the research library. She works in collaboration with the National Gallery’s team of executive officers to establish and execute the overall strategic vision of the museum and realize dynamic programming in the galleries\, online\, and in the National Gallery’s education spaces. \n\nThis program is free and open to ArtTable members only. Not a member? Join today!\n\nPlease read before registering:\n Covid-19 Guidelines Please note that by registering for this event you consent to have your contact information shared with ArtTable to be used in the event that contact tracing is needed. All visitors will be required to show proof of vaccination before entering the restaurant.  Accessibility 1310 Kitchen and Bar is wheelchair accessible. Please email programs@arttable.org if you require additional accessibility information for this program.  Getting There We will meet at 1310 Kitchen and Bar\, located at 1310 Wisconsin Ave NW\, Washington\, DC 20007. It is accessible via Metrobus and street parking is available. \n  \n\nArtTable is a 501.c.3 organization. All programs are non-refundable. \n\nAbout Kate Haw\nFrom 2013-2019\, Kate Haw was Director of the Archives of American Art at the Smithsonian Institution.Leading the world’s largest resource for the study of American art\, she set the direction for collecting\, preservation\, and dissemination of a growing collection of more than 30 million documents and nearly 2\,500 oral histories\, providing leadership in the field on emerging research trends and adoption of digital tools in the study of art history. Under her leadership\, the Archives significantly expanded its holdings on first-wave feminist\, African American\, Latinx\, and LGBTQ artists and built an endowment to ensure worldwide digital access to these materials. \nPrior to joining the Smithsonian\, Kate held curatorial roles at the National Gallery of Art and the American Federation of Arts\, where she helped to organize exhibitions including Johannes Vermeer; Georges de La Tour and His World\, Gerard Ter Borch; Degas and the Dance; American Impressionists Abroad and at Home; and The Sensuous and the Sacred: Chola Bronzes from South India. In 2004 she transitioned to fundraising and institutional leadership\, serving as Director of External Affairs at the American Federation of Arts from 2004-2006 before becoming Co-Director of the renowned Skowhegan School of Painting & Sculpture in New York and Maine from 2006-2011. Among her achievements at Skowhegan was the establishment of a comprehensive archive and the school’s oral-history program. \nKate received a bachelor’s degree in art history and religion from Sweet Briar College in Virginia as well as a master’s degree in art history from the University of North Carolina at Chapel Hill. \n\nImage: Kate Haw\, courtesy of the speaker. \nThank you to Ruth Abrahams\, Graphic designer\, Ruth Abrahams Design and former ArtTable DC Chapter Co-Chair for organizing this program.
URL:https://www.arttable.org/event/dc-breakfasttable-with-kate-haw/
LOCATION:1310 Kitchen & Bar\, 1310 Wisconsin Ave NW\, Washington\, DC
CATEGORIES:Washington, D.C.
ATTACH;FMTTYPE=image/jpeg:https://www.arttable.org/wp-content/uploads/2022/01/Kate-Haw-Ashley-Templeton-e1641595836108.jpg
ORGANIZER;CN="ArtTable Washington%2C D.C.":MAILTO:programs@arttable.org
END:VEVENT
BEGIN:VEVENT
DTSTART;TZID=America/New_York:20220203T110000
DTEND;TZID=America/New_York:20220203T110000
DTSTAMP:20260425T184030
CREATED:20220114T195704Z
LAST-MODIFIED:20220118T153016Z
UID:7637-1643886000-1643886000@www.arttable.org
SUMMARY:Virtual | Discovering Digital - Yam Karkai and the World of Women NFT Project
DESCRIPTION:8am PT/9am MT/10am CT/11am ET\nThe world is abuzz about NFTs\, and it does not come as a shock that the space is awash with male artists. Yam Karkai\, the sole artist behind the World of Women (WoW)\, is a critical voice in the NFT space not just for women but for collective diversity in the crypto community. Join Yam and Yennefer\, Head of Communications at WoW\, for a virtual discussion about Yam’s vision for this project\, how she became a part of the NFT space\, the seemingly overnight success of World of Women\, and her thoughts on how NFT projects stay relevant in a booming crypto market. \nAdmission: \n\n\n\nArtTable Circle Members – Free\nAll Other ArtTable Members – $10\nNon-Members – $20\n\nNot a member? Join today! \n\n\nArtTable is a 501.c.3 organization. All programs are non-refundable. \n\nAbout the speakers\nYam Karkai is a digital illustrator and NFT artist who creates pieces that focus on bringing women into the spotlight while at the same time addressing certain aspects of women’s lives. She does so through vivid harmonious color combinations together with playful\, delicate lines and a touch of fantasy. \nShe is also the creator and illustrator of the “World of Women” project that works on bringing more diversity and representativeness into the NFT world while creating a safe welcoming space for women and minorities and also supporting up and coming artists. \n\nImage: World of Women NFT project samples; Yam Karkai \nThank you to Sophie Coco\, New York Chapter Programs Committee member\, for organizing this program.
URL:https://www.arttable.org/event/virtual-discovering-digital-yam-karkai-world-of-women-nft-project/
LOCATION:Zoom
CATEGORIES:National
ATTACH;FMTTYPE=image/gif:https://www.arttable.org/wp-content/uploads/2022/01/icon.gif
ORGANIZER;CN="ArtTable National":MAILTO:programs@arttable.org
END:VEVENT
BEGIN:VEVENT
DTSTART;TZID=America/New_York:20220203T150000
DTEND;TZID=America/New_York:20220203T150000
DTSTAMP:20260425T184030
CREATED:20220127T170528Z
LAST-MODIFIED:20220127T192059Z
UID:7775-1643900400-1643900400@www.arttable.org
SUMMARY:Virtual | NoCal First Thursday Coffee Break
DESCRIPTION:12pm PT / 1pm MT / 2pm CT / 3pm ET\nAll ArtTable members are welcome to join the Northern California Chapter during your lunch break on Thursday\, February 3rd at 12pm PT/3pm ET. Pour a cup of coffee\, tea\, or grab a quick bite and join other members for this one-time virtual coffee break together. \nThis program is open to ArtTable members and guests only. First Thursdays Coffee Break is a recurring event and is donation based. Not a member? Join today! \n\n  \n\n  \n\nThank you to Kitty Teerling for organizing this program.
URL:https://www.arttable.org/event/virtual-nocal-first-thursday-coffee-break-feb22/
LOCATION:Zoom
CATEGORIES:Northern California
ATTACH;FMTTYPE=image/jpeg:https://www.arttable.org/wp-content/uploads/2020/12/CoffeePic2-scaled-e1608583983904.jpg
ORGANIZER;CN="ArtTable Northern California":MAILTO:programs@arttable.org
END:VEVENT
END:VCALENDAR