BEGIN:VCALENDAR
VERSION:2.0
PRODID:-//ArtTable - ECPv6.15.20//NONSGML v1.0//EN
CALSCALE:GREGORIAN
METHOD:PUBLISH
X-ORIGINAL-URL:https://www.arttable.org
X-WR-CALDESC:Events for ArtTable
REFRESH-INTERVAL;VALUE=DURATION:PT1H
X-Robots-Tag:noindex
X-PUBLISHED-TTL:PT1H
BEGIN:VTIMEZONE
TZID:America/New_York
BEGIN:DAYLIGHT
TZOFFSETFROM:-0500
TZOFFSETTO:-0400
TZNAME:EDT
DTSTART:20220313T070000
END:DAYLIGHT
BEGIN:STANDARD
TZOFFSETFROM:-0400
TZOFFSETTO:-0500
TZNAME:EST
DTSTART:20221106T060000
END:STANDARD
BEGIN:DAYLIGHT
TZOFFSETFROM:-0500
TZOFFSETTO:-0400
TZNAME:EDT
DTSTART:20230312T070000
END:DAYLIGHT
BEGIN:STANDARD
TZOFFSETFROM:-0400
TZOFFSETTO:-0500
TZNAME:EST
DTSTART:20231105T060000
END:STANDARD
BEGIN:DAYLIGHT
TZOFFSETFROM:-0500
TZOFFSETTO:-0400
TZNAME:EDT
DTSTART:20240310T070000
END:DAYLIGHT
BEGIN:STANDARD
TZOFFSETFROM:-0400
TZOFFSETTO:-0500
TZNAME:EST
DTSTART:20241103T060000
END:STANDARD
END:VTIMEZONE
BEGIN:VEVENT
DTSTART;TZID=America/New_York:20230621T120000
DTEND;TZID=America/New_York:20230621T130000
DTSTAMP:20260424T091244
CREATED:20230605T201435Z
LAST-MODIFIED:20230621T003021Z
UID:12584-1687348800-1687352400@www.arttable.org
SUMMARY:National | Virtual Lunch & Learn | Linda Selvin: Appraisers Association of America
DESCRIPTION:9 am PDT / 10 am MDT / 11 am CDT / 12 pm EDT\n\n\n\nWe’re so happy to welcome Linda Selvin\, the Executive Director of the Appraisers Association of America\, to our Virtual Lunch & Learn Series! will discuss her journey to becoming the Executive Director of Appraisers Association of America\, and share her experience working at the Association over the past decade. From gender equity in the industry/workplace\, the value of professional associations\, the importance of establishing industry-wide ethics and professional standards for appraisal practices\, to the fluctuating values of art and property\, she’ll be touching upon the changes she has witnessed throughout her career and sharing her vision of the future of the industry. There will be an open discussion after the interview\, giving ArtTable members the opportunity to engage in dialogue and ask questions. Selvin will be in conversation with Kerry Gaertner Gerbracht. Special thanks to Regan Lynn Larroque. \n\n\n\n\n \n\n\n\n\nAdmission: \n\n\n\n\nComplimentary with optional donation\n\n\n\n\nNot a member? Join today! \n\n\n\n\n\n\n\n\n\n\n\n \n\n\n\nAfter registration\, you will receive an email containing the Zoom link.All virtual programs offer live automatic closed captioning. \n\n\n\n\n\n\n\nThis program is supported in part by public funds from the New York City Department of Cultural Affairs in partnership with the City Council. \n\n\n\n\n\n\n\n\n\n\n\n\n\n\nLinda Selvin is the Executive Director of the Appraisers Association of America. Selvin began her career as the Gallery Manager of the Newhouse Center for Contemporary Art\, and went on to become the Program Officer at the Pollock-Krasner Foundation\, distributing funds internationally to artists of both merit and need. For 10 years\, she served as the Executive Director of the New York Branch of the International Dyslexia Association. She is currently the Secretary of The Appraisal Foundation’s Advisory Council (TAFAC) based in Washington D.C. and a member of their Personal Property Issues Committee. Selvin is an Adjunct Instructor at New York University\, Steinhardt School in the Visual Arts Administration graduate program and is a guest lecturer both nationally and internationally. She is a member of ArtTable and the Professional Advisors to the International Art Market (PAIAM). 
URL:https://www.arttable.org/event/national-virtual-lunch-learn-linda-selvin-appraisers-association-of-america/
LOCATION:Virtual
CATEGORIES:National
ATTACH;FMTTYPE=image/png:https://www.arttable.org/wp-content/uploads/2023/06/LindaSelvinLunchLearn_GreekWomen.png
ORGANIZER;CN="ArtTable National":MAILTO:programs@arttable.org
END:VEVENT
END:VCALENDAR