BEGIN:VCALENDAR
VERSION:2.0
PRODID:-//ArtTable - ECPv6.15.20//NONSGML v1.0//EN
CALSCALE:GREGORIAN
METHOD:PUBLISH
X-ORIGINAL-URL:https://www.arttable.org
X-WR-CALDESC:Events for ArtTable
REFRESH-INTERVAL;VALUE=DURATION:PT1H
X-Robots-Tag:noindex
X-PUBLISHED-TTL:PT1H
BEGIN:VTIMEZONE
TZID:America/New_York
BEGIN:DAYLIGHT
TZOFFSETFROM:-0500
TZOFFSETTO:-0400
TZNAME:EDT
DTSTART:20210314T070000
END:DAYLIGHT
BEGIN:STANDARD
TZOFFSETFROM:-0400
TZOFFSETTO:-0500
TZNAME:EST
DTSTART:20211107T060000
END:STANDARD
BEGIN:DAYLIGHT
TZOFFSETFROM:-0500
TZOFFSETTO:-0400
TZNAME:EDT
DTSTART:20220313T070000
END:DAYLIGHT
BEGIN:STANDARD
TZOFFSETFROM:-0400
TZOFFSETTO:-0500
TZNAME:EST
DTSTART:20221106T060000
END:STANDARD
BEGIN:DAYLIGHT
TZOFFSETFROM:-0500
TZOFFSETTO:-0400
TZNAME:EDT
DTSTART:20230312T070000
END:DAYLIGHT
BEGIN:STANDARD
TZOFFSETFROM:-0400
TZOFFSETTO:-0500
TZNAME:EST
DTSTART:20231105T060000
END:STANDARD
BEGIN:DAYLIGHT
TZOFFSETFROM:-0500
TZOFFSETTO:-0400
TZNAME:EDT
DTSTART:20240310T070000
END:DAYLIGHT
BEGIN:STANDARD
TZOFFSETFROM:-0400
TZOFFSETTO:-0500
TZNAME:EST
DTSTART:20241103T060000
END:STANDARD
BEGIN:DAYLIGHT
TZOFFSETFROM:-0500
TZOFFSETTO:-0400
TZNAME:EDT
DTSTART:20250309T070000
END:DAYLIGHT
BEGIN:STANDARD
TZOFFSETFROM:-0400
TZOFFSETTO:-0500
TZNAME:EST
DTSTART:20251102T060000
END:STANDARD
BEGIN:DAYLIGHT
TZOFFSETFROM:-0500
TZOFFSETTO:-0400
TZNAME:EDT
DTSTART:20260308T070000
END:DAYLIGHT
BEGIN:STANDARD
TZOFFSETFROM:-0400
TZOFFSETTO:-0500
TZNAME:EST
DTSTART:20261101T060000
END:STANDARD
BEGIN:DAYLIGHT
TZOFFSETFROM:-0500
TZOFFSETTO:-0400
TZNAME:EDT
DTSTART:20270314T070000
END:DAYLIGHT
BEGIN:STANDARD
TZOFFSETFROM:-0400
TZOFFSETTO:-0500
TZNAME:EST
DTSTART:20271107T060000
END:STANDARD
END:VTIMEZONE
BEGIN:VEVENT
DTSTART;TZID=America/New_York:20220921T173000
DTEND;TZID=America/New_York:20220921T193000
DTSTAMP:20260422T234227
CREATED:20220831T210939Z
LAST-MODIFIED:20220912T202917Z
UID:10060-1663781400-1663788600@www.arttable.org
SUMMARY:Chicago\, IL | An Evening at Goldfinch Gallery with Claudine Ise
DESCRIPTION:Join ArtTable in Chicago for an evening at Goldfinch Gallery with owner and director\, Claudine Isé. Claudine will speak to us about her career trajectory from various roles within the museum\, not-for-profit\, and university sectors to making the leap into commercial enterprise by establishing her own gallery. During the evening\, she will also provide curatorial insights into three solo exhibitions by artists Yanique Norman\, James Kao and Minami Kobayashi. \n\n\n\nAdmission: \n\n\n\nArtTable Members – $10Member Guests/Non-Members – $15\n\n\n\nNot a member? Join today! \n\n\n\nPlease review the below before registering:\n\n\n\n Health & Safety Masks are encouraged but not required. Extra masks will not be available so please remember to bring and wear one if you prefer to be masked. Please note that by registering for this event you consent to have your contact information shared with ArtTable to be used in the event that contact tracing is needed.  Accessibility The gallery is located on the first floor\, and is wheelchair accessible. If you would like information about accessibility or need particular accommodations for this program\, please email Haley at programs@arttable.org.  Getting There Goldfinch Gallery is located at 319 N. Albany Avenue in a large\, brick warehouse building in East Garfield Park. Additional entrance instructions will be relayed to all registered guests. \n\n\n\n\n\n\n\n\n\n\n\n\n\n\n\n\nAbout Claudine Isé\nClaudine Isé (she/her) is the owner and director of Goldfinch\, a contemporary art gallery that opened in 2016. Goldfinch’s program focuses on emerging and mid-career artists with a strong focus on painting and sculpture. She is also a Lecturer in the Painting and Drawing department at the School of the Art Institute of Chicago. Prior to moving to Chicago in 2008\, Isé was the Associate Curator of Exhibitions at the Wexner Center for the Arts\, and before that\, was an Assistant Curator at the Hammer Museum in Los Angeles. Over the course of her professional career\, she has written extensively about contemporary art in Chicago (and before that\, Los Angeles) for publications including Artforum\, Art21 Blog (where she also served as Editor)\, Bad at Sports\, Art Papers\, the Chicago Tribune and Chicago Magazine\, and the Los Angeles Times\, among others. She holds a Ph.D. in Film\, Literature and Culture from the University of Southern California and a B.A. in English from Pomona College.  \n\n\n\n\n\n\nImages: Yanique Norman\, Monticello: Plot 2\, 2022\, Found and reconstructed image tinted black and transferred onto watercolor papers with hand-cut and sculptural elements\, colored xerox\, collage\, graphite and iridescent medium; Included in Yanique Norman: Blue to Green on view at Goldfinch; James Kao\, Smokeset\, 2021\, Oil on linen over board; Included in James Kao: “something about grinding down\, something about glittering”; Taylor Augustine\, painting included in the exhibition “Kiss my petals”
URL:https://www.arttable.org/event/chicago-an-evening-at-goldfinch-gallery-with-claudine-ise%ef%bf%bc/
LOCATION:Goldfinch Gallery\, 319 N. Albany Avenue\, Chicago\, Illinois\, 60612\, United States
CATEGORIES:Chicago
ATTACH;FMTTYPE=image/png:https://www.arttable.org/wp-content/uploads/2022/08/Screen-Shot-2022-09-02-at-8.12.21-PM.png
ORGANIZER;CN="ArtTable National":MAILTO:programs@arttable.org
END:VEVENT
BEGIN:VEVENT
DTSTART;TZID=America/New_York:20260228T110000
DTEND;TZID=America/New_York:20260228T120000
DTSTAMP:20260422T234227
CREATED:20260121T221814Z
LAST-MODIFIED:20260212T154829Z
UID:145543-1772276400-1772280000@www.arttable.org
SUMMARY:Chicago\, IL | Studio Visit with Edra Soto
DESCRIPTION:Visit Edra Soto’s studio in the Belmont Cragin neighborhood of Chicago on February 28. \n\n\n\nEdra Soto (b. 1971) is a Puerto Rican-born artist\, educator\, and co-director of outdoor project space The Franklin. Soto instigates meaningful\, relevant\, and often difficult conversations surrounding socioeconomic and cultural oppression\, erasure of history\, and loss of cultural knowledge. Having grown up in Puerto Rico\, and now immersed in her Chicago community\, the artist has evolved to raise questions through her work about constructed social orders\, diasporic identity\, and the legacy of colonialism. \n\n\n\nSoto has presented recent solo exhibitions at Comfort Station\, Chicago\, IL (2024); Maine College of Art & Design\, ME (2024); Morgan Lehman Gallery\, NY (2024); Hyde Park Art Center\, Chicago\, IL (2023); Institute of Contemporary Art\, San Diego\, CA (2023); Abrons Art Center\, New York\, NY (2021); Museum of Contemporary Art\, Chicago\, IL (2018); Headlands Center for the Arts\, Sausalito\, CA (2017); The Arts Club of Chicago\, IL (2017). Her work has been featured in notable group exhibitions including Widening the Lens: Photography\, Ecology\, and the Contemporary Landscape\, Carnegie Museum of Art\, Pittsburgh\, PA (2024); Diasporic Collage: Puerto Rico and the Survival of a People\, MSU Broad Art Museum\, MI (2024); Entre Horizontes\, Museum of Contemporary Art Chicago\, IL (2023); no existe un mundo poshuracán\, Whitney Museum of American Art\, New York\, NY (2022); and Estamos Bien\, La Trienal 20/21\, El Museo del Barrio\, New York\, NY (2021). \n\n\n\nShe has been awarded the United States Artists Fellowship\, the Joyce Award; 3Arts Next Level Award; Illinois Arts Council Fellowship; Joan Mitchell Foundation Painters & Sculptors Grant; Bemis Center’s Ree Kaneko Award; and US LatinX Art Forum Fellowship; and MacArthur Foundation International Connections Fund. Soto has received numerous public commissions\, for Public Art Fund at the Doris C. Freedman Plaza\, Central Park\, NY (2024); Noor Riyadh\, Saudi Arabia (2024); Now & There\, Central Wharf Park\, Boston\, MA (2023); the Chicago Architecture Biennial\, IL (2023); Terminal 5 at O’Hare International Airport\, IL (2023); Chicago Botanic Garden\, IL (2022) and Millennium Park in Chicago\, IL (2019). Her work is in the collection of institutions including the Whitney Museum of American Art\, New York; Pérez Art Museum Miami; Museo de Arte de Puerto Rico and Museum of Contemporary Art of Chicago. \n\n\n\nParking is available in front of and around the building. Please arrive promptly at 11 am as the door wll be locked afterward. There is a short set of stairs with rails to access the studio space. No elevator is available. For questions about access or to request accommodations please contact us at programs@arttable.org. \n\n\n\nPlease wear closed-toed shoes. \n\n\n\n\n\nProgram Admission:  \n\n\n\n\nGeneral Admission – $25\n\n\n\nArtTable Members – $15\n\n\n\nArtTable Guests – $20\n\n\n\n\nNot a member? Join today! \n\n\n\nAll program registration fees go toward event expenses and administrative costs for the organization. \n\n\n\n\n\n\n\n\n\n\n\n\n\n\nImages:  \n\n\n\nHeadshot of Edra SotoEdra Soto\, 2025\, La Casa de Todos | the Sculpture Center
URL:https://www.arttable.org/event/chicago-il-studio-visit-with-edra-soto/
LOCATION:Full Address Provided Upon Registration\, Belmont Cragin\, 60639
CATEGORIES:Chicago
ATTACH;FMTTYPE=image/jpeg:https://www.arttable.org/wp-content/uploads/2026/01/Untitled-design-1.jpg
ORGANIZER;CN="ArtTable National":MAILTO:programs@arttable.org
END:VEVENT
END:VCALENDAR