BEGIN:VCALENDAR
VERSION:2.0
PRODID:-//ArtTable - ECPv6.15.20//NONSGML v1.0//EN
CALSCALE:GREGORIAN
METHOD:PUBLISH
X-ORIGINAL-URL:https://www.arttable.org
X-WR-CALDESC:Events for ArtTable
REFRESH-INTERVAL;VALUE=DURATION:PT1H
X-Robots-Tag:noindex
X-PUBLISHED-TTL:PT1H
BEGIN:VTIMEZONE
TZID:America/New_York
BEGIN:DAYLIGHT
TZOFFSETFROM:-0500
TZOFFSETTO:-0400
TZNAME:EDT
DTSTART:20220313T070000
END:DAYLIGHT
BEGIN:STANDARD
TZOFFSETFROM:-0400
TZOFFSETTO:-0500
TZNAME:EST
DTSTART:20221106T060000
END:STANDARD
BEGIN:DAYLIGHT
TZOFFSETFROM:-0500
TZOFFSETTO:-0400
TZNAME:EDT
DTSTART:20230312T070000
END:DAYLIGHT
BEGIN:STANDARD
TZOFFSETFROM:-0400
TZOFFSETTO:-0500
TZNAME:EST
DTSTART:20231105T060000
END:STANDARD
BEGIN:DAYLIGHT
TZOFFSETFROM:-0500
TZOFFSETTO:-0400
TZNAME:EDT
DTSTART:20240310T070000
END:DAYLIGHT
BEGIN:STANDARD
TZOFFSETFROM:-0400
TZOFFSETTO:-0500
TZNAME:EST
DTSTART:20241103T060000
END:STANDARD
END:VTIMEZONE
BEGIN:VTIMEZONE
TZID:America/Los_Angeles
BEGIN:DAYLIGHT
TZOFFSETFROM:-0800
TZOFFSETTO:-0700
TZNAME:PDT
DTSTART:20220313T100000
END:DAYLIGHT
BEGIN:STANDARD
TZOFFSETFROM:-0700
TZOFFSETTO:-0800
TZNAME:PST
DTSTART:20221106T090000
END:STANDARD
BEGIN:DAYLIGHT
TZOFFSETFROM:-0800
TZOFFSETTO:-0700
TZNAME:PDT
DTSTART:20230312T100000
END:DAYLIGHT
BEGIN:STANDARD
TZOFFSETFROM:-0700
TZOFFSETTO:-0800
TZNAME:PST
DTSTART:20231105T090000
END:STANDARD
BEGIN:DAYLIGHT
TZOFFSETFROM:-0800
TZOFFSETTO:-0700
TZNAME:PDT
DTSTART:20240310T100000
END:DAYLIGHT
BEGIN:STANDARD
TZOFFSETFROM:-0700
TZOFFSETTO:-0800
TZNAME:PST
DTSTART:20241103T090000
END:STANDARD
END:VTIMEZONE
BEGIN:VEVENT
DTSTART;TZID=America/New_York:20231101T180000
DTEND;TZID=America/New_York:20231101T193000
DTSTAMP:20260422T160714
CREATED:20230925T175044Z
LAST-MODIFIED:20231024T202512Z
UID:13746-1698861600-1698867000@www.arttable.org
SUMMARY:Helen Zughaib Artist Talk & Studio Visit
DESCRIPTION:Don’t miss your chance for a studio tour with celebrated artist Helen Zughaib! Zughaib is a Washington\, DC-based painter and mixed-media artist known for her vibrant and thought-provoking work. Born in Beirut\, Lebanon\, her pop-art influenced art explores themes related to issues of cultural identity\, migration\, and social justice and is characterized by its use of bold colors\, intricate patterns\, and symbolism. \n\n\n\nZughaib’s work has been gifted to international heads of state by President Barack Obama and Hilary Clinton and appears in galleries and museums around the world. She is a multi-year recipient of DC Commission on the Arts and Humanities Fellowship award. In 2023\, she was featured at the Hall of Nations at the Kennedy Center\, and was commissioned by Disney/PIXAR. Zughaib has exhibitions running concurrently at The Kay Chernush Virtual Gallery\, ArtRage\, and ArtHub609 Gallery this fall. \n\n\n\n“My work is ultimately about creating empathy. Creating a shared space for introspection anddialogue. I ask the viewer to see through someone else’s eyes\, to walk in another’s shoes. Toaccept the “other.” To reject divisiveness. To promote acceptance and understanding and toreject violence and subjugation of anyone anywhere. To give voice to the voiceless\, to heal\, andto reflect in our shared humanity.” \n\n\n\nThank you to Sarah Gordon for her assistance with this event! \n\n\n\nAdmission: \n\n\n\n\nArtTable Members $10\n\n\n\nGuests $20\n\n\n\n\nNot a member? Join today! \n\n\n\n\n\n\n\nThis program is at capacity: please click “Register Here” to join the waitlist—we may be able to welcome a few more people!  \n\n\n\n\n\n\n\n\n\n\n\n\n\nImage: Helen Zughaib | Generations Lost 1\, 2014. Gouache on board. 30” x 40” \n\n\n\n\n\n\n\n\n\n\n\n\n\nAbout the Artist \n\n\n\n\nHelen Zughaib was born in Beirut\, Lebanon\, living mostly in the Middle East and Europe before coming to the United States to study art at Syracuse University\, earning her BFA from the College of Visual and Performing Arts. Her work has been widely exhibited in galleries and museums in the United States\, Europe and Lebanon. Her paintings are included in many private and public collections\, including the White House\, World Bank\, Library of Congress\, US Consulate\, Vancouver\, Canada\, American Embassy in Baghdad\, Iraq\, the Arab American National Museum in Detroit\, the Minneapolis Institute of Art\, and the Barjeel Art Foundation Collection. Her paintings are also included in the DC Art Bank Collection and she has received the DC Commission on the Arts and Humanities Fellowship award each year since 2015. Her work has been included in Art in Embassy State Department exhibitions abroad\, including Brunei\, Nicaragua\, Mauritius\, Iraq\, Belgium\, Lebanon\, Saudi Arabia and Sweden. Helen has served as Cultural Envoy to Palestine\, Switzerland and Saudi Arabia. The John F. Kennedy Center/REACH\, in Washington\, DC\, has selected Helen for the 2021-2024 Inaugural Social Impact Practice residency. Her paintings have been gifted to heads of state by President Obama and former Secretary of State\, Hillary Clinton.
URL:https://www.arttable.org/event/national-helen-zughaib-artist-talk-studio-visit-in-washington-dc/
LOCATION:Zughaib Studio\, Foggy Bottom\, Washington\, District of Columbia
CATEGORIES:National,Washington, D.C.
ATTACH;FMTTYPE=image/jpeg:https://www.arttable.org/wp-content/uploads/2023/09/ZughaibH_Generations-Lost-1.jpg
END:VEVENT
BEGIN:VEVENT
DTSTART;TZID=America/New_York:20231107T190000
DTEND;TZID=America/New_York:20231107T203000
DTSTAMP:20260422T160714
CREATED:20231011T183203Z
LAST-MODIFIED:20231107T192524Z
UID:13875-1699383600-1699389000@www.arttable.org
SUMMARY:Virtual Workshop | First Findings from the Survey on Gender & Pay Equity
DESCRIPTION:4 pm PST / 5 pm MST / 6 pm CST / 7 pm EST \n\n\n\nReporting Results and Sharing Solutions: First Findings from ArtTable’s Survey on Gender and Pay Equity\n\n\n\nSince the fall of 2022\, ArtTable has conducted a survey to better understand compensation—and compensation inequity—in the arts\, with a particular focus on gender and compensation. At this collaborative workshop\, Dr. Gillian Gualtieri will present the findings from our first white paper report: “Costs of Working in the Arts.” Then\, attendees will collaboratively respond to the findings and begin to build solutions and suggestions that will be incorporated into the final document and circulated among members. The solution is not individual\, but\, rather shared\, and we hope this program will be the first in a series of evidence-based workshops informed by and informing our continued research.Add your voice to this important conversation! \n\n\n\nThe Impact Initiatives Fund supports ArtTable’s annual fellowship program\, Career RoundTable events\, this Pay Equity project\, as well as various mentorship opportunities at the organization. Please consider a contribution to this fund with your registration. \n\n\n\nWe want to convey our appreciation to Hyperallergic for their support as our media sponsor. \n\n\n\n\n\n\n\nAdmission: \n\n\n\n\nComplimentary with optional donation\n\n\n\n\nNot a member? Join today! \n\n\n\n\n\n\n\n\n\n\n\n \n\n\n\nAfter registration\, you will receive an email containing the Zoom link.All virtual programs offer live automatic closed captioning. \n\n\n\n\n\n\n\n\n\n\n\n\n\n\n\n\n\n\nGillian Gualtieri\, PhD\, is a Visiting Assistant Professor in the Department of Sociology at Barnard College\, where she teaches classes in the sociology of art\, race and ethnicity\, gender\, organizations\, and culture. Previously\, she was a postdoctoral scholar at the Curb Center for Art\, Enterprise and Public Policy at Vanderbilt University and a postdoctoral fellow at New York University. In 2018\, Gillian received her Ph.D. in Sociology at the University of California\, Berkeley.  Gillian has published research on symbolic compliance and sexual harassment on college campuses (in Sociological Forum)\, inequality in the art world (Poetics; SNAAP Report)\, and racial and gender inequality in fine dining (Social Problems; Poetics). Gualtieri is the lead researcher on ArtTable’s Survey on Working in the Arts. Gilliangualtieri.com
URL:https://www.arttable.org/event/virtual-workshop-first-findings-from-the-survey-on-gender-pay-equity/
LOCATION:Virtual
CATEGORIES:National
ATTACH;FMTTYPE=image/png:https://www.arttable.org/wp-content/uploads/2023/10/Equity2.png
ORGANIZER;CN="ArtTable National":MAILTO:programs@arttable.org
END:VEVENT
BEGIN:VEVENT
DTSTART;TZID=America/New_York:20231109T093000
DTEND;TZID=America/New_York:20231109T103000
DTSTAMP:20260422T160714
CREATED:20231010T200009Z
LAST-MODIFIED:20231025T171912Z
UID:13935-1699522200-1699525800@www.arttable.org
SUMMARY:Artist-Led tour of Sheila Pepe's "My Neighbor's Garden" at Madison Square Park
DESCRIPTION:Join us for a tour of “My Neighbor’s Garden” with artist Sheila Pepe on November 9 at Madison Square Park. Brooke Kamin Rapaport\, Artistic Director and Martin Friedman Chief Curator\, will introduce the artist and her first outdoor exhibition. “My Neighbor’s Garden\,” places colorful and optimistic canopies of crocheted material\, as well as unexpected materials including paracord\, shoelaces\, outsize rubber bands\, and climbing vines\, and extends from the park’s extant physical structures such as light poles. In the months preceding the exhibition\, Pepe gathered novice and expert crocheters at her Brooklyn studio for crochet sessions towards the fabrication of the project. Pepe will speak about the project\, offer insights into the collaborative process\, as well as situating the exhibition within the context of her career as a whole. The event will wrap up with a Q&A.Press coverage of the exhibition: \n\n\n\n\nThe New York Times\n\n\n\nNY1 News\n\n\n\nWNYC\n\n\n\nThe Brooklyn Rail \n\n\n\nWFUV and the What’s What Podcast\n\n\n\n\nSpecial thanks to Truth Murray-Cole for spearheading this event! \n\n\n\nAdmission: \n\n\n\n\nArtTable Members – $15\n\n\n\nMember Guests – $25\n\n\n\nPublic – $30\n\n\n\n\nNot a member? Join today! \n\n\n\n\n\n\n\nThis program is supported in part by public funds from the New York City Department of Cultural Affairs in partnership with the City Council. \n\n\n\nArtTable’s Artist Talks are made possible by the Pollock Krasner Foundation. \n\n\n\n\n\n\n\n\n\n\n\nImages: Sheila Pepe\, Crane\, Madison Square Park.Sheila Pepe\, photo by Rachel Stern. \n\n\n\n\n\n\nAbout the Artist\n\n\n\nSheila Pepe was born in Morristown\, New Jersey in 1959. She lives and works in Brooklyn. Pepe received a BA from Albertus Magnus College in New Haven; a BFA in ceramics from Massachusetts College of Art and Design\, Boston\, and an MFA from the School of the Museum of Fine Arts\, Boston. The artist’s mother taught her to crochet in the 1960s. Pepe discovered women artists who were a generation or two older and associated with the feminist art movement–Lynda Benglis\, Eva Hesse\, and Nancy Spero–as a crucible to launch her sculptural investigations. www.sheilapepe.com \n\n\n\n\n\n\n\n\nAbout the Curator\n\n\n\n\nBrooke Kamin Rapaport is deputy director and Martin Friedman chief curator at New York’s Madison Square Park Conservancy\, which she joined in 2013. She was commissioner and curator of the 2019 United States Pavilion at the Venice Biennale with the exhibition Martin Puryear: Liberty/Liberta. A major catalogue published by Gregory R. Miller accompanied the Venice exhibition. At Madison Square Park Conservancy\, she is responsible for the outdoor public sculpture program of commissioned work by contemporary artists including Diana AI-Hadid\, Tony Cragg\, Abigail DeVille\, Leonardo Drew\, Teresita Fernandez\, Maya Lin\, Josiah McElheny\, Martin Puryear\, Erwin Redl\, Arlene Shechet\, and Krzysztof Wodiczko. She is the founder of Public Art Consortium\, a national initiative of museum\, public art\, and sculpture park colleagues launched in 2017. Rapaport was a curator of contemporary art at the Brooklyn Museum and a guest curator at The Jewish Museum. She sits on the boards of three artist-endowed foundations and the Mead Art Museum at Amherst College.
URL:https://www.arttable.org/event/artist-led-tour-of-sheila-pepes-my-neighbors-garden-at-madison-square-park/
LOCATION:Madison Square Park\, 11 Madison Ave\, New York\, New York\, 10010\, United States
CATEGORIES:New York,National
ATTACH;FMTTYPE=image/jpeg:https://www.arttable.org/wp-content/uploads/2023/04/MSP-Crane_8-21-23_selects-19.jpg
ORGANIZER;CN="ArtTable National":MAILTO:programs@arttable.org
END:VEVENT
BEGIN:VEVENT
DTSTART;TZID=America/New_York:20231113T163000
DTEND;TZID=America/New_York:20231113T180000
DTSTAMP:20260422T160714
CREATED:20231024T155215Z
LAST-MODIFIED:20231102T194939Z
UID:14020-1699893000-1699898400@www.arttable.org
SUMMARY:*Waiting List* Guided Tour of the Capital One Art Collection with Anne Fletcher & Susannah Haworth Dunn
DESCRIPTION:Join ArtTable for an exclusive tour of the The Capital One Art Program! This 90-minute guided tour through the Capital One Center art collection offers a premium opportunity to see the in-house work and do a deep-dive into the building\, stewardship\, and purpose of a corporate art collection. The art displayed in the company’s offices across North America is composed of over 50 rotating exhibits a year and a permanent collection of over 8\,000 pieces. The heart of the program is the belief that when people are surrounded by thoughtful\, detailed\, innovative work\, they will create thoughtful\, detailed\, innovative work. Anne Fletcher\, the Art Administrator for Capital One\, explains that above all\, through the program\, “we want to create really innovative\, vibrant work spaces for our associates.” Capital One Center is the culmination of the company’s belief in the impact of the arts and a thriving\, mixed-use cultural and retail destination for the local community and the region. \n\n\n\nArtists in the collection include Alice Aycock\, Jacob Hashimoto\, Carter Hodgkin\, and Anne Patterson. \n\n\n\n\nPlease note health\, safety\, and procedural information:\n\n\n\n\nThe Art Tour will begin in the first-floor lobby of Center 3. Please bring a government-issued ID to gain entrance. \n\n\n\nThe building is wheelchair-accessible with elevators. Those walking for the 90-minute tour will want to wear comfortable shoes.\n\n\n\nEach attendee must sign a release form two business days before the event—they are due by Friday\, November 10 at 11:00 AM Eastern. Please watch for the release form after registration\, and then complete and return it on time to make sure you can attend!\n\n\n\nSee the Capital One Center’s Parking & Transportation page for details on parking and Silver Line Metro access. General Parking is $15.00. Parking is in the public garage adjacent to Center 2 just next door (to the right) of Center 3\, where the tour begins.\n\n\n\n\n\n \n\n\n\n\nAdmission:\n\n\n\n\nArtTable Members $25\n\n\n\nGuests $35\n\n\n\n\nNot a member? Join today! \n\n\n\n\n\n\n\nPlease note that this event is now waitlisted! Click “Register Here” to add your name. \n\n\n\n\n\n\n\n\n\nThank you to Susannah Haworth Dunn for spearheading this event! \n\n\n\n\n\n\n\nImage: Alice Aycock\, Hoop-La\, 2016-2018\, Capital One Art Collection.
URL:https://www.arttable.org/event/guided-tour-of-the-capital-one-art-collection-with-anne-fletcher-susannah-haworth-dunn/
LOCATION:Capital One Center\, 1675 Capital One Drive\, McLean\, Virginia\, 22102-3473\, United States
CATEGORIES:National,Washington, D.C.
ATTACH;FMTTYPE=image/jpeg:https://www.arttable.org/wp-content/uploads/2023/10/Alice-Aycock-Hoop-La-2016-2018_CapitalOneArt.jpeg
END:VEVENT
BEGIN:VEVENT
DTSTART;TZID=America/New_York:20231128T180000
DTEND;TZID=America/New_York:20231128T200000
DTSTAMP:20260422T160714
CREATED:20231103T184533Z
LAST-MODIFIED:20231103T185335Z
UID:14109-1701194400-1701201600@www.arttable.org
SUMMARY:Curator-Led tour of "Making Their Mark" with Cecilia Alemani
DESCRIPTION:Making Their Mark is a major exhibition showcasing the works of more than 80 of the most significant women artists from the last eight decades. Curated by Cecilia Alemani\, Donald R. Mullen\, Jr. Director & Chief Curator of High Line Art and Curator of the 59th International Art Exhibition at the Venice Biennale\, the exhibition marks the first public viewing of the Shah Garg Collection: a groundbreaking body of work by women collected by Komal Shah and Gaurav Garg. \n\n\n\nMaking Their Mark includes historic and contemporary artworks by Jennifer Bartlett\, Lynda Benglis\, Firelei Báez\, Cecily Brown\, Judy Chicago\, Sonia Gomes\, Sheila Hicks\, Jacqueline Humphries\, Mary Heilmann\, Charline von Heyl\, Joan Mitchell\, Julie Mehretu\, Elizabeth Murray\, Howardena Pindell\, Jaune Quick-to-See Smith\, Joan Semmel\, Joan Snyder\, Amy Sillman\, Mary Weatherford\, and Anicka Yi\, among many others.  \n\n\n\nMaking Their Mark introduces a broader audience to the mission of the Shah Garg Foundation\, located in the historic former home of DIA Chelsea at 548 West 22nd Street. The Foundation is committed to championing the work of women artists\, from the modern era through the present day\, with Making Their Mark introducing its curatorial vision to the public for the first time.The evening will begin with an informal reception at 6 PM and progress to the exhibit tour at 7 PM. \n\n\n\nAdmission: \n\n\n\n\nArtTable Members – $20\n\n\n\nMember Guests – $30\n\n\n\nPublic – $35\n\n\n\n\nNot a member? Join today! \n\n\n\n\n\n\n\nThis program is supported in part by public funds from the New York City Department of Cultural Affairs in partnership with the City Council. \n\n\n\n\n\nThank you to Cara Blumstein for her assistance with this event! \n\n\n\n\n\n\n\n\n\n\n\n\n\nImages:  Install Views – Credit Tom Powel Imaging\, Courtesy Shah Garg Foundation.Cecilia Alemani\, Courtesy of the High Line. Photo Liz Ligon. \n\n\n\n\n\n\nAbout the Curator\n\n\n\nCecilia Alemani is an Italian curator based in New York. Since 2011\, she has been the Donald R. Mullen\, Jr Director & Chief Curator of High Line Art\, the public art program presented by the High Line in New York. In 2022\, she curated The Milk of Dreams\, the 59th International Art Exhibition at La Biennale di Venezia. In 2018\, Alemani served as Artistic Director of the inaugural edition of Art Basel Cities: Buenos Aires. In 2017\, she curated the Italian Pavilion at the Venice Biennale. Cecilia’s full bio is available here.
URL:https://www.arttable.org/event/curator-led-tour-of-making-their-mark-with-cecilia-alemani/
LOCATION:Shah Garg Foundation\, 548 West 22nd Street\, New York\, New York\, 10011
CATEGORIES:New York,National
ATTACH;FMTTYPE=image/jpeg:https://www.arttable.org/wp-content/uploads/2023/11/FIS_MakingMark_103123_1091.jpg
ORGANIZER;CN="ArtTable National":MAILTO:programs@arttable.org
END:VEVENT
BEGIN:VEVENT
DTSTART;TZID=America/Los_Angeles:20231130T100000
DTEND;TZID=America/Los_Angeles:20231130T110000
DTSTAMP:20260422T160714
CREATED:20230924T130747Z
LAST-MODIFIED:20231031T170820Z
UID:13653-1701338400-1701342000@www.arttable.org
SUMMARY:Guided Tour of Hollyhock House with Abbey Chamberlain Brach
DESCRIPTION:This is a bespoke tour for only ten people: don’t miss your chance for this behind-the-scenes tour with Hollyhock House Site Director & Curator Abbey Chamberlain Brach—book your ticket today! \n\n\n\n“Now\, with a radical client like Miss Barnsdall\, a site like Olive Hill\, a climate like California\, an architect head on for freedom\, something had to happen… So this Romanza of California came out on Olive Hill.” —Frank Lloyd Wright: An Autobiography\, 1943 \n\n\n\nHeiress Aline Barnsdall (1882-1946) created a revolutionary life: a feminist\, traveler\, single mother by design\, supporter of experimental Chicago theatre\, close friend of Emma Goldman\, early patron of The Hollywood Bowl\, and champion of revolutionary causes. Barnsdsall commissioned an equally iconic home from Frank Lloyd Wright\, intended to be the center of an Olive Hill arts complex. Barnsdall gifted Hollyhock House and Barnsdall Park to the City of Los Angeles in 1927\, and it was designated as a UNESCO World Heritage Site in 2019.“Hollyhock House has inspired generations of artists\, architects\, and designers. It is a harbinger of California Modernism and designed by Wright in response to the region\, capturing the drama of Hollywood and embracing building traditions of the American southwest.” —Hollyhock House Education Thank you to ArtTable Board Vice-President\, Felice Axelrod!Admission: \n\n\n\nArtTable Members $25\nMember Guests $35\n\nNot an ArtTable member? Join today! \n*THIS EVENT HAS A WAITING LIST: PLEASE CLICK “REGISTER HERE” TO ADD YOURSELF TO IT! \n \nPlease note that all income from program fees goes towards program expenses and ArtTable’s internal costs for organizing programs. \n\nImage: Stan Ecklund\, Courtesy City of Los Angeles Department of Cultural Affairs. \n\n\n\n\n\n\n\n\n\n\n\nAbbey Chamberlain Brach is Site Director & Curator at Hollyhock House\, part of the City of Los Angeles Department of Cultural Affairs. She manages interpretation\, restoration\, and preservation\, including a major restoration of the Residence A guest house begun in 2017. From 2012 to 2018\, Abbey worked at the Los Angeles County Museum of Art as part of the decorative arts and design department—contributing to exhibitions on twentieth-century design dialogues between California and Mexico\, the Arts and Crafts movement\, and Peter Zumthor’s design for LACMA.Abbey earned her master’s degree in American History at the University of Delaware\, while working in the curatorial department at Winterthur Museum. She served as the Curator & Director of Education at the Santa Barbara Maritime Museum and the Assistant Education Coordinator for the Santa Barbara Trust for Historic Preservation\, operating El Presidio de Santa Barbara State Historic Park and Casa de la Guerra.
URL:https://www.arttable.org/event/national-guided-tour-of-hollyhock-house-with-abbey-chamberlain-brach/
LOCATION:Hollyhock House\, 4800 Hollywood Blvd\, Los Angeles\, 90027
CATEGORIES:National,Southern California
ATTACH;FMTTYPE=image/jpeg:https://www.arttable.org/wp-content/uploads/2023/09/Hollyhock-House-west-facade-photo-by-Stan-Ecklund-2020-large.jpg
ORGANIZER;CN="ArtTable Southern California":MAILTO:programs@arttable.org
END:VEVENT
END:VCALENDAR