BEGIN:VCALENDAR
VERSION:2.0
PRODID:-//ArtTable - ECPv6.15.20//NONSGML v1.0//EN
CALSCALE:GREGORIAN
METHOD:PUBLISH
X-WR-CALNAME:ArtTable
X-ORIGINAL-URL:https://www.arttable.org
X-WR-CALDESC:Events for ArtTable
REFRESH-INTERVAL;VALUE=DURATION:PT1H
X-Robots-Tag:noindex
X-PUBLISHED-TTL:PT1H
BEGIN:VTIMEZONE
TZID:America/New_York
BEGIN:DAYLIGHT
TZOFFSETFROM:-0500
TZOFFSETTO:-0400
TZNAME:EDT
DTSTART:20230312T070000
END:DAYLIGHT
BEGIN:STANDARD
TZOFFSETFROM:-0400
TZOFFSETTO:-0500
TZNAME:EST
DTSTART:20231105T060000
END:STANDARD
BEGIN:DAYLIGHT
TZOFFSETFROM:-0500
TZOFFSETTO:-0400
TZNAME:EDT
DTSTART:20240310T070000
END:DAYLIGHT
BEGIN:STANDARD
TZOFFSETFROM:-0400
TZOFFSETTO:-0500
TZNAME:EST
DTSTART:20241103T060000
END:STANDARD
BEGIN:DAYLIGHT
TZOFFSETFROM:-0500
TZOFFSETTO:-0400
TZNAME:EDT
DTSTART:20250309T070000
END:DAYLIGHT
BEGIN:STANDARD
TZOFFSETFROM:-0400
TZOFFSETTO:-0500
TZNAME:EST
DTSTART:20251102T060000
END:STANDARD
END:VTIMEZONE
BEGIN:VEVENT
DTSTART;TZID=America/New_York:20240906T113000
DTEND;TZID=America/New_York:20240906T130000
DTSTAMP:20260421T170008
CREATED:20240718T192344Z
LAST-MODIFIED:20240821T234020Z
UID:20653-1725622200-1725627600@www.arttable.org
SUMMARY:New York\, NY | ArtTable Annual Brunch at The Armory Show 2024
DESCRIPTION:Reconnect with colleagues and friends at ArtTable’s Annual Brunch at The Armory Show! In addition to a delicious continental brunch\, each registration for this event—a highlight of the ArtTable calendar—includes a day pass to The Armory Show for Friday\, September 6. \n\n\n\nKyla McMillan\, Director of The Armory Show\, will join us as a special guest! \n\n\n\nRegistration:  \n\n\n\n\nArtTable Circle\, Patron\, and Benefactor Members – $47\n\n\n\nArtTable Members – $57\n\n\n\nGuest of ArtTable member – $67\n\n\n\nNonmember – $77\n\n\n\n\n\n\n\n\n\n \n\n\n\nArtTable members receive special access to art fairs happening nationwide throughout the year. Not a member? Join or renew today! \n\n\n\n\n\n\n\n\n\n\n\n\n\n\n\nArtTable thanks The Armory Show and catering partner Cultivated for their generosity in welcoming us this year. \n\n\n\nAbout The Armory Show: In 1994\, four New York art dealers had the ambitious goal of creating a new art fair to support their artists and attract global attention. They succeeded. The result was a groundbreaking cultural moment that has become vital to the New York art market and beyond. While much has changed over the years\, our ingenuity and ambition have not. The Armory Show is a galvanizing force in the art world and essential to New York’s cultural landscape.
URL:https://www.arttable.org/event/new-york-ny-arttable-annual-brunch-at-the-armory-show-2024/
LOCATION:Javits Center\, 429 11th Avenue\, New York\, 10001
CATEGORIES:New York,National
ATTACH;FMTTYPE=image/jpeg:https://www.arttable.org/wp-content/uploads/2024/07/tullo_armoryshow2022.jpeg
END:VEVENT
BEGIN:VEVENT
DTSTART;TZID=America/New_York:20240911T110000
DTEND;TZID=America/New_York:20240911T120000
DTSTAMP:20260421T170008
CREATED:20240816T234709Z
LAST-MODIFIED:20240820T211441Z
UID:23906-1726052400-1726056000@www.arttable.org
SUMMARY:Los Angeles\, CA | Tour of Mickalene Thomas: All About Love at The Broad with Assistant Curator\, Jennifer Vanegas Rocha
DESCRIPTION:Image Credit: Mickalene Thomas\, Din avec la main dans le miroir et jupe rouge\, 2023. Rhinestones\, acrylic\, and glitter on canvas mounted on wood panel. © Mickalene Thomas\n\n\n\nJoin Jennifer Vinegas Rocha\, Assistant Curator at The Broad\, on an exclusive tour of Mickalene Thomas: All About Love. This major 20-year survey of Thomas’ work was co-organized by the Hayward Gallery in London and The Broad\, in partnership with the Barnes Foundation in Philadelphia. \n\n\n\n \n\n\n\nAbout the exhibition: Debuting at The Broad with over 90 works made by the artist over the last 20 years\, Mickalene Thomas: All About Love is the first major international tour of this pioneering artist’s work. The exhibition highlights how Mickalene Thomas has mastered and innovated within several disciplines\, from mixed-media painting and collage to installation and photography. The exhibition shares its title and several of its themes with the pivotal text by feminist author bell hooks\, in which love is an active process rooted in healing\, carving a path away from domination and towards collective liberation. Through her queries into pop culture and mass media\, Thomas offers a reverberating demand for Black women to be seen and understood\, and for viewers to become what hooks calls “practitioners of love.” \n\n\n\n \n\n\n\nAbout Jennifer Vinegas Rocha: Jennifer Vanegas Rocha is Assistant Curator at The Broad where she has provided support to major special exhibitions and catalogue publications like William Kentridge: In Praise of Shadows (2023) and Keith Haring: Art Is for Everybody (2023). Most recently\, she co-curated the collection exhibition\, Desire\, Knowledge\, and Hope (with Smog) with Ed Schad\, Curator and Publications Manager. She received a Master of Arts in Art History from the University of California\, Riverside. She was awarded the 2019-2020 UCR Gluck Fellowship and 2020-2021 UCR Family Learning Fellowship. She received her Bachelor of Art in Art History from California State University\, Dominguez Hills where she was the recipient of the 2016 Winston Hewitt Art & Design Endowed Scholarship and the 2016-2017 CSUDH Praxis Student Fellowship. \n\n\n\n \n\n\n\nProgram Registration: \n\n\n\nIncludes admission to The Broad and to Mickalene Thomas: All About Love  \n\n\n\n\nArtTable Member – $30\n\n\n\nFriend of Member – $35\n\n\n\nNon-Member – $40\n\n\n\n\n\n\nNot a member? Join today!
URL:https://www.arttable.org/event/los-angeles-ca-tour-of-mickalene-thomas-all-about-love-at-the-broad-with-assistant-curator-jennifer-vanegas-rocha/
LOCATION:The Broad\, 21 S. Grand Avenue\, Los Angeles\, CA\, 90012\, United States
CATEGORIES:New York,National
ATTACH;FMTTYPE=image/png:https://www.arttable.org/wp-content/uploads/2024/08/Screen-Shot-2024-08-16-at-7.42.15-PM.png
END:VEVENT
BEGIN:VEVENT
DTSTART;TZID=America/New_York:20240912T173000
DTEND;TZID=America/New_York:20240912T183000
DTSTAMP:20260421T170008
CREATED:20240817T002737Z
LAST-MODIFIED:20240910T193623Z
UID:23917-1726162200-1726165800@www.arttable.org
SUMMARY:New York\, NY | Studio Visit with Helina Metaferia
DESCRIPTION:Installation view of Helina Metaferia’s 2022 solo exhibition\, All Put Together\, at Praise Shadows Art Gallery\, featuring artwork from the By Way of Revolution series. Image courtesy the artist.\n\n\n\nArtTable is pleased to invite you to explore Helina Metaferia‘s process and current projects on a visit to the artist’s studio in Lower Manhattan. \n\n\n\n \n\n\n\nAbout the Artist: Helina Metaferia is an interdisciplinary artist working across collage\, assemblage\, video\, performance\, and social engagement. Her work integrates archives\, somatic studies\, and dialogical practices\, creating overlooked narratives that amplify BIPOC/femme bodies. \n\n\n\nMetaferia received her MFA from Tufts University’s School of the Museum of Fine Arts and attended the Skowhegan School of Painting and Sculpture. Recent solo exhibitions and projects include RISD Art Museum (2022-2023); Museum of Fine Arts\, Boston\, MA (2021-2022); New York University’s The Gallatin Galleries\, New York\, NY (2021); Michigan State University’s Scene Metrospace Gallery\, East Lansing\, MI (2019); and Museum of African Diaspora\, San Francisco\, CA (2017). Metaferia’s work was included in the Sharjah Biennial in the United Arab Emirates (2023)\, the Tennessee Triennial through the Frist Art Museum and Fisk University Art Gallery (2023). Her work is in the permanent collection of institutions including Los Angeles County Museum of Art\, Los Angeles\, CA; Museum of Fine Arts\, Boston\, MA; Sharjah Art Foundation\, United Arab Emirates; Kadist\, San Francisco\, CA and Paris\, France; and the Schomburg Center for Research in Black Culture\, New York\, NY. \n\n\n\nMetaferia’s work has been supported by several residencies including MacDowell\, Yaddo\, Bemis Center for Contemporary Art\, and MASS MoCA. She is currently a 2021-2023 artist-in-residence at Silver Art Projects at the World Trade Center in New York City. Her work has been written about in publications including The New York Times\, Financial Times\, The Washington Post\, The Boston Globe\, Artnet News\, The Art Newspaper\, and Hyperallergic. Metaferia is an Assistant Professor at Brown University in the Visual Art department\, and lives and works in New York City. \n\n\n\n \n\n\n\n \n\n\n\nHelina Metaferia’s studio is located in Lower Manhattan\, a short walk from the World Trade Center. The exact address will be shared with attendees prior to the visit.  \n\n\n\n  \n\n\n\nThis Artist Talk is generously supported by the Pollock-Krasner Foundation. Special thanks to Ashley Paulisick and Nicole Poletta for their assistance in organizing this program. \n\n\n\n Program Admission: \n\n\n\n\nArtTable Member – $15\n\n\n\nFriend of Member – $20\n\n\n\nNon-Member – $25\n\n\n\n\nNot a member? Join today!  \n\n\n\n\n \n\n\n\nPLEASE NOTE: Registration for this program closed at 5:00 PM on Monday\, September 9.
URL:https://www.arttable.org/event/new-york-ny-studio-visit-with-helina-metaferia/
CATEGORIES:New York,National
ATTACH;FMTTYPE=image/jpeg:https://www.arttable.org/wp-content/uploads/2024/08/6314895_3-scaled.jpg
END:VEVENT
BEGIN:VEVENT
DTSTART;TZID=America/New_York:20240920T153000
DTEND;TZID=America/New_York:20240920T170000
DTSTAMP:20260421T170008
CREATED:20240822T061049Z
LAST-MODIFIED:20240917T171317Z
UID:24527-1726846200-1726851600@www.arttable.org
SUMMARY:*CANCELED* Yonkers\, NY | Curator-Led Tour of 'No Bodies: Clothing as Disruptor' at the Hudson River Museum
DESCRIPTION:Rachel Breen. Shroud\, 2018. Used white shirts\, thread\, and fabric. Courtesy of the artist.\n\n\n\nJoin us in Westchester County for a tour of No Bodies: Clothing as Disruptor with exhibition curator and ArtTable member Alva Greenberg. Following our exclusive tour\, the Hudson River Museum will graciously host a reception for attendees. Our heartfelt thanks to Alva Greenberg; Laura Vookles\, Chair of the Curatorial Department at the Hudson River Museum and Board Member of ArtTable; and Masha Turchinsky\, Director and CEO of the Hudson River Museum and former Board Member of ArtTable for organizing this program. \n\n\n\n \n\n\n\nAbout the exhibtition: “Clothing conveys impressions of social background\, economic status\, and ethnicity. Much like physical features\, it serves as a powerful tool for self-expression and understanding others. Our inclination to categorize people based on their attire also shapes our reactions to them. How often do we subconsciously assign meanings to clothing that may not truly represent the wearer? \n\n\n\nThe altered and uninhabited clothing in No Bodies disrupts our automatic responses by challenging perceptions of materiality\, cultural identity\, relationships\, political beliefs\, and portraiture itself. Free from physicality\, these works compel us to confront our assumptions\, as well as the ever-growing societal tendency to compartmentalize people\, behavior\, and social media that increasingly rules our thinking. What does it mean to deconstruct a garment by unraveling it\, burning it\, or transforming it into another material? What does clothing symbolize when there never was\, or will be\, a body inside?” \n\n\n\n \n\n\n\nProgram Admission: \n\n\n\n\nArtTable Member – $15\n\n\n\nFriend of Member – $20\n\n\n\nNon-Member – $25\n\n\n\n\nNot a member? Join today!
URL:https://www.arttable.org/event/yonkers-ny-curator-led-tour-of-no-bodies-clothing-as-disruptor-at-the-hudson-river-museum/
LOCATION:Hudson River Museum\, 511 Warburton Avenue\, Yonkers\, New York\, 10701\, United States
CATEGORIES:New York,National
ATTACH;FMTTYPE=image/jpeg:https://www.arttable.org/wp-content/uploads/2024/08/on-view-exhibition-2024-nb-breen-2048x1365-1.jpg
END:VEVENT
BEGIN:VEVENT
DTSTART;TZID=America/New_York:20240923T150000
DTEND;TZID=America/New_York:20240923T153000
DTSTAMP:20260421T170008
CREATED:20240625T202644Z
LAST-MODIFIED:20240718T153110Z
UID:19440-1727103600-1727105400@www.arttable.org
SUMMARY:Virtual | New Member Orientation & Member Portal Walkthrough
DESCRIPTION:12 pm PT / 1 pm MT / 2 pm CT / 3 pm ET\n\n\n\nWelcome new ArtTable members! Please join us for a virtual orientation session where you will meet other new members and learn how to take full advantage of all the ArtTable community has to offer. This program is free and open to all ArtTable members. \n\n\n\nWhether you are new to our community or have been a long-time member\, there’s no wrong time for a refresher course! Connect with other members in a casual and relaxed online environment and learn more about what our community is all about. \n\n\n\n\n\n\nNot a member? Join today! \n\n\n\n\n\n\n\n\n(You will receive an email confirmation containing the Zoom link.) \n\n\n\nAccessibility: Please note that this program will offer live closed captioning. If you require additional accommodations\, please email programs@arttable.org. \n\n\n\nCan’t join us for this new member orientation? Don’t worry\, we host virtual orientation sessions every 3 months! In the meantime\, we hope you can join us for another upcoming program or support other ArtTable initiatives!
URL:https://www.arttable.org/event/virtual-new-member-orientation-member-portal-walkthrough-4/
CATEGORIES:National
ATTACH;FMTTYPE=image/gif:https://www.arttable.org/wp-content/uploads/2024/06/Program-Templates-Wide.gif
ORGANIZER;CN="ArtTable National":MAILTO:programs@arttable.org
END:VEVENT
BEGIN:VEVENT
DTSTART;TZID=America/New_York:20240927T153000
DTEND;TZID=America/New_York:20240927T170000
DTSTAMP:20260421T170008
CREATED:20240827T131844Z
LAST-MODIFIED:20240831T044535Z
UID:24846-1727451000-1727456400@www.arttable.org
SUMMARY:New York\, NY | Deborah Remington Exhibition Talk with Peeky Berenson
DESCRIPTION:Deborah Remington\, Aldwych\, 1973. Courtesy of Bortolami Gallery.\n\n\n\nJoin us at Bortolami Gallery for a tour of Deborah Remington‘s exhibition Mirrors with Director of the Deborah Remington Charitable Trust for the Visual Arts and ArtTable member Margaret Mathews Berenson. Following our exclusive tour\, Bortolami Gallery will graciously host a reception for attendees. \n\n\n\n \n\n\n\nMargaret Mathews Berenson\, better known as Peeky to her contemporaries at ArtTable\, has been an ArtTable member for nearly three decades. She joined the Program Committee immediately after becoming a member\, later serving as co-chair of the committee with gallerist\, Julie Saul. Peeky also served on the Board of Directors from 2007 to 2011 and as Board Secretary from 2009-2011. She co-chaired the 2008 Luncheon honoring Vishakha Desai\, President and CEO of Asia Society\, and actively participated in countless trips\, tours\, and luncheons. \n\n\n\n \n\n\n\nSince 2010\, she has been Director of the Deborah Remington Charitable Trust for the Visual Arts. Mirrors is the second solo show for the artist at Bortolami and coincides with the publication of a major monograph for the artist published by Rizzoli / Electa. The book represents a long-overdue survey of the work of yet another under-recognized woman artist: a renegade in every sense of the word – and who well deserves critical attention.  \n\n\n\n \n\n\n\nProgram Admission: \n\n\n\n\nArtTable Member – $10\n\n\n\nFriend of Member – $15\n\n\n\nNon-Member – $20\n\n\n\n\nNot a member? Join today!
URL:https://www.arttable.org/event/new-york-ny-deborah-remington-exhibition-talk-with-peeky-berenson/
LOCATION:Bortolami Gallery\, 39 Walker St\, New York\, New York\, 10013\, United States
CATEGORIES:New York,National
ATTACH;FMTTYPE=image/png:https://www.arttable.org/wp-content/uploads/2024/08/Screenshot-2024-08-27-at-9.22.53 AM.png
END:VEVENT
END:VCALENDAR