BEGIN:VCALENDAR
VERSION:2.0
PRODID:-//ArtTable - ECPv6.15.20//NONSGML v1.0//EN
CALSCALE:GREGORIAN
METHOD:PUBLISH
X-ORIGINAL-URL:https://www.arttable.org
X-WR-CALDESC:Events for ArtTable
REFRESH-INTERVAL;VALUE=DURATION:PT1H
X-Robots-Tag:noindex
X-PUBLISHED-TTL:PT1H
BEGIN:VTIMEZONE
TZID:America/New_York
BEGIN:DAYLIGHT
TZOFFSETFROM:-0500
TZOFFSETTO:-0400
TZNAME:EDT
DTSTART:20240310T070000
END:DAYLIGHT
BEGIN:STANDARD
TZOFFSETFROM:-0400
TZOFFSETTO:-0500
TZNAME:EST
DTSTART:20241103T060000
END:STANDARD
BEGIN:DAYLIGHT
TZOFFSETFROM:-0500
TZOFFSETTO:-0400
TZNAME:EDT
DTSTART:20250309T070000
END:DAYLIGHT
BEGIN:STANDARD
TZOFFSETFROM:-0400
TZOFFSETTO:-0500
TZNAME:EST
DTSTART:20251102T060000
END:STANDARD
BEGIN:DAYLIGHT
TZOFFSETFROM:-0500
TZOFFSETTO:-0400
TZNAME:EDT
DTSTART:20260308T070000
END:DAYLIGHT
BEGIN:STANDARD
TZOFFSETFROM:-0400
TZOFFSETTO:-0500
TZNAME:EST
DTSTART:20261101T060000
END:STANDARD
END:VTIMEZONE
BEGIN:VEVENT
DTSTART;TZID=America/New_York:20250403T183000
DTEND;TZID=America/New_York:20250403T203000
DTSTAMP:20260421T110327
CREATED:20250102T215252Z
LAST-MODIFIED:20250211T172728Z
UID:36157-1743705000-1743712200@www.arttable.org
SUMMARY:2025 Annual Benefit & Award Ceremony
DESCRIPTION:People of all gender identities are allies in supporting women and nonbinary professionals’ leadership in the arts\, and everyone is welcome to attend our Benefit events.\n\n\n\n\n\n\n\nDetails on Ticket Levels Below \n\n\n\nPlease join us at the Bohemian National Hall in New York City\, honoring ArtTable’s 2025 Distinguished Service to the Visual Arts Awardee Komal Shah\, and New Leadership Awardee Danielle Amodeo.  \n\n\n\nArtTable’s Annual Benefit & Award Ceremony was launched in 1993\, 13 years after the organization was founded. The inaugural event honored actress\, singer\, television personality\, spokesperson for the arts\, and then Chair of the New York State Council on the Arts\, Kitty Carlisle Hart\, with the first-ever Distinguished Service to the Visual Arts Award. In following years\, the event would go on to honor trailblazers and powerhouse women in the arts\, including Agnes Gund\, Marcia Tucker\, Yoko Ono\, Thelma Golden\, Lowery Stokes Sims\, and many more. In 2005\, the New Leadership Award was introduced to honor and celebrate emerging women leaders in the arts. Click here to learn more about ArtTable’s Annual Benefit & Award Ceremony. \n\n\n\nRegister to be a part of one of the year’s most celebrated art world events and contribute to ArtTable’s vision for a more equitable art world! \n\n\n\nThis program is a standing cocktail reception with refreshments\, light bites\, and remarks from our honorees. Limited seating is available. ASL interpretation will be provided. \n\n\n\n\n\n\n\nDetails on Ticket Levels Below \n\n\n\n\n Tickets $25\,000 - Mentorship and Equity Supporter Named support of one ArtTable Fellowship* in 2025Support 5 Mentorship tickets for emerging professionals or former fellow in the field1 purchaser ticket and 9 guest tickets to the BenefitAcknowledgement as a contributor to ArtTable’s Impact Initiatives Fund\, in Honor of Meg Perlman on website and press releases for one yearPremier recognition on Benefit listings and spoken recognition at BenefitPremier advertisement$15\,000 - Member Supporter  Support of 20 Affiliate level* Memberships for emerging professionals in the artsListing on ArtTable Membership webpage as an Affiliate Supporter for one year1 purchaser ticket and 9 guest tickets to the BenefitSupport 5 Mentorship tickets to the Benefit for emerging professionals in the artsPremier recognition on Benefit listingsPriority screen advertisement$10\,000 - Visionary Supporter 1 purchaser ticket and 9 guest tickets to the BenefitPremier recognition on Benefit listingsSupport 1 Mentorship ticket to the Benefit for an emerging professional in the artsPriority screen advertisement$5\,000 - Community Supporter 1 purchaser ticket and 4 guest tickets to BenefitRecognition in Benefit listingsClassic screen advertisement$3\,000 - Leadership Ticket 1 purchaser ticket and 3 guest tickets to BenefitRecognition in Benefit listings$1\,000 - Executive Ticket 1 purchaser ticket and 1 guest ticket to BenefitRecognition in Benefit listings$550 - Member Friend Ticket 1 purchaser ticket to BenefitRecognition in Benefit listings$375 - General Ticket $225 - ArtTable Member Ticket (Sign into your ArtTable account to access) $200 - Mentorship Ticket Mentorship tickets provide access to the Benefit for a current or former ArtTable Fellow or other early career professional (Please note that mentorship tickets are distributed through the national office and may not be purchased for a specific person).*ArtTable's Fellowship Program is one of ArtTable’s Impact Initiatives which provides work experiences and mentorship to women and nonbinary emerging professionals in the visual arts. *ArtTable's Affiliate Level is a subsidized ArtTable Membership Level for early career professionals.  Advertisement Levels $1\,375 - Premier Video Advertisement Five-second video advertisement to be played at the Benefit a minimum of 30 timesInclusion in dedicated e-blast to ArtTable members$775 - Priority Screen Advertisement  Three-second stationary advertisement to be played at the Benefit displayed a minimum of 20 timesInclusion in dedicated e-blast to ArtTable members$475 - Classic Screen Advertisement  Three-second stationary advertisement to be played at the Benefit displayed a minimum of 10 timesInclusion in dedicated e-blast to ArtTable members$200 - Priority Message Maximum 150-character message to be played at the Benefit displayed a minimum of 20 times $100 - Classic Message  Maximum 150-character message to be played at the Benefit displayed a minimum of 10 timesAll advertisements and messages are digital and will be displayed at the Benefit if received by March 20th\, 2025. Messages can be in support of the honorees or ArtTable itself. All messages are subject to review by ArtTable. Advertisement purchases do not include a ticket to the Benefit. \n\n\n\n\n\n\n\n\n\nArtTable is a 501.c.3 organization and all events are non-refundable. A portion of all ticket levels is tax-deductible; mentorship tickets are fully tax-deductible for the purchaser. Registrants will receive an acknowledgement letter confirming the tax-deductible donation amount after the event. Please email programs@arttable.org with any questions.
URL:https://www.arttable.org/event/2025-annual-benefit-award-ceremony/
CATEGORIES:New York,National
ATTACH;FMTTYPE=image/jpeg:https://www.arttable.org/wp-content/uploads/2024/12/Benefit-Event-Poster-3.jpg
END:VEVENT
BEGIN:VEVENT
DTSTART;TZID=America/New_York:20250404T160000
DTEND;TZID=America/New_York:20250404T170000
DTSTAMP:20260421T110327
CREATED:20250211T221424Z
LAST-MODIFIED:20250314T171349Z
UID:40894-1743782400-1743786000@www.arttable.org
SUMMARY:New York\, NY | Curator-Led Tour of "Anonymous Was a Woman: The First 25 Years" at NYU's Grey Art Museum
DESCRIPTION:Join ArtTable for a curator-led tour of Anonymous Was A Woman: The First 25 Years at the Grey Art Museum at New York University\, led by exhibition co-curators Nancy Princenthal and Dr. Vesela Sretenović. \n\n\n\nIn 1996\, artist and philanthropist Susan Unterberg founded the Anonymous Was A Woman (AWAW) award\, making a simple\, yet radical commitment to redress the lack of institutional support for women visual artists over the age of 40. She sought to provide mid-career artists with the means to procure workspace\, art supplies\, childcare\, or whatever else they needed to further their artistic careers. For the past two and a half decades\, AWAW has provided unrestricted grants of $25\,000 to ten or more artists each year.  \n\n\n\nShowcasing some 50 artworks by 41 of the 251 award recipients from AWAW’s first 25 years (1996 through 2020)\, this exhibition explores several themes surrounding anonymity and\, ultimately\, celebrates the transformative impact women artists have made on contemporary art since the award’s founding. With each year represented by at least one artist\, the exhibition includes works created within a few years of their grant\, demonstrating the significance of the award to the artist’s growth. The range of artists featured in the exhibition demonstrates the demographic and aesthetic diversity of past awardees. All 251 artists are represented in a publication accompanying the exhibition\, which also includes critical essays about the awardees by Princenthal\, Sretenović\, and other women scholars. \n\n\n\nClick here to read more about the landmark exhibition. \n\n\n\n\n\nVisitor Notes: \n\n\n\n\nThe Grey is fully walker- and wheelchair-accessible\, and several portable stools are available to borrow for use within the galleries upon request.\n\n\n\nPlease note that large bags and backpacks must be checked in a secure locker\, and food & drink (including water bottles) are not permitted. \n\n\n\n\n\n\nProgram Admission: \n\n\n\n\nArtTable Members – $15\n\n\n\n\n\nAll registrants for this event will be provided with a 20% discount on ArtTable’s limited edition scarf celebrating 25 Years of Anonymous Was a Woman\, created in 2021 in conjunction with ArtTable’s 45 year anniversary and the year Susan Unterberg received the Distinguished Service to the Visual Arts Award. Made of 100% silk habotai\, only a handful of scarves remain in our inventory!  \n\n\n\n\n\n\n\n\nNot a member? Join today! \n\n\n\nAll program registration fees go toward event expenses and administrative costs for the organization. \n\n\n\n\n\n\n\n\n\n\n\n\n\n\n\n\n\nArtTable’s programs are made possible by the New York State Council on the Arts with the support of the Office of the Governor and the New York State Legislature. \n\n\n\n\n\n\n\n\n\n\n\n\nAbout the Curators \n\n\n\nNancy Princenthal is a Brooklyn-based writer whose book Agnes Martin: Her Life and Art (2015) received the 2016 PEN/Jacqueline Bograd Weld Award for Biography. She is also the author of Hannah Wilke (2010) and Unspeakable Acts: Women\, Art\, and Sexual Violence in the 1970s (2019)\, and co-author of Mothers of Invention: The Feminist Roots of Contemporary Art (2024). Princenthal has taught at Bard\, Princeton\, Yale\, the School of Visual Arts\, NYU’s Institute of Fine Arts\, and elsewhere. \n\n\n\nDr. Vesela Sretenović has been a long-time curator of modern and contemporary art with special interest in cross-disciplinary art practices and in bridging theoretical knowledge with hands-on experience. Most recently (2009-23) she served as Director of Contemporary Art Initiatives and Academic Affairs at The Phillips Collection in Washington DC. During her tenure\, she had organized Intersections\, a series of ongoing contemporary art projects\, as well as monographic exhibitions of prominent artists including Robert Ryman\, Ellsworth Kelly\, Antony Gormley\, and the first museum retrospective of Cuban artist Zilia Sanchez. Additionally\, she oversaw academic partnership initiatives with the University of Maryland (UMD) and the University of Virginia (UVA). Prior to The Phillips\, Sretenović worked at Brown University\, the University at Buffalo SUNY\, and the Brooklyn Museum of Art. She is a frequent visiting faculty\, teaching modern and contemporary art history and theory\, and works as an independent curator. Sretenović holds a BA in Art History from University of Belgrade\, Former Yugoslavia\, an MA from the School of the Art Institute of Chicago\, and a PhD in Humanities from Syracuse University. \n\n\n\n\n\n\n\nImage credits:Judy Pfaff\, Ram’s Delhi\, 2012. Wood\, mild steel rod\, melted plastics\, black aluminum foil\, and LED and UV Fluorescent light\, 70 x 132 x 17 in. Collection of the artist\, New York
URL:https://www.arttable.org/event/new-york-ny-curator-led-tour-of-anonymous-was-a-woman-the-first-25-years-at-nyus-grey-art-museum/
LOCATION:NYU Grey Art Museum\, 18 Cooper Square\, New York\, New York\, 10003
CATEGORIES:New York,National
ATTACH;FMTTYPE=image/jpeg:https://www.arttable.org/wp-content/uploads/2025/02/2012.7_Pfaff_Judy_RamsDelhi_2012_mailchimp-scaled-1.jpg
ORGANIZER;CN="ArtTable National":MAILTO:programs@arttable.org
END:VEVENT
BEGIN:VEVENT
DTSTART;TZID=America/New_York:20250408T150000
DTEND;TZID=America/New_York:20250408T160000
DTSTAMP:20260421T110327
CREATED:20250117T162233Z
LAST-MODIFIED:20250130T212028Z
UID:40366-1744124400-1744128000@www.arttable.org
SUMMARY:Washington\, DC | Curator-Led Tour of "Elizabeth Catlett: A Black Revolutionary Artist" at the National Gallery of Art
DESCRIPTION:Join ArtTable for a curator-led tour of Elizabeth Catlett: A Black Revolutionary Artist at the National Gallery of Art\, led by Dr. Lynn K. Matheny\, Deputy Head of Interpretation and Curator of Special Projects. \n\n\n\nThis retrospective exhibition showcases the enduring legacy of Elizabeth Catlett (1915–2012) as a visionary artist and an unwavering activist. As the most comprehensive presentation devoted to Catlett in the United States\, it features more than 150 works\, including well-known sculpture and prints\, rare paintings and drawings\, and important ephemera. The exhibition is co-organized by the Brooklyn Museum and the National Gallery of Art\, Washington\, and presented in collaboration with the Art Institute of Chicago. \n\n\n\nOne of the defining artists of the 20th century\, Elizabeth Catlett addressed the injustices she witnessed and experienced through her bold prints and dynamic sculptures. In striving to make art for the people—from her roots in Washington\, DC\, Chicago\, and New York to the remarkable body of work she made during some 60 years in Mexico—Catlett put social justice at the very center of her work. An avowed feminist\, lifelong activist\, and deft formalist\, Catlett passionately addressed injustices such as class inequality\, racial violence\, and U.S. expansionism through her politically engaged art\, injustices which continue to shape the world today.  \n\n\n\n\n\n“I have been\, and am currently\, and always hope to be a Black Revolutionary Artist and all that it implies.”– Elizabeth Catlett\, 1970 \n\n\n\n\n\n\n\n\n\nClick here to read more about the exhibition and this visionary artist-activist. \n\n\n\nPlease review the National Gallery of Art’s accessibility page for available accommodations. \n\n\n\nProgram Admission: \n\n\n\n\nArtTable Members – $15\n\n\n\nMember Guests – $20\n\n\n\n\nNot a member? Join today! \n\n\n\nPlease note that ArtTable registration fees go toward administrative costs for the nonprofit organization. The National Gallery of Art does not charge an admission fee. \n\n\n\n\n\n\n\n\n\n\n\n\n\n\n\n\n\n\n\n\nAbout Lynn K. Matheny \n\n\n\n\nDr. Lynn K. Matheny currently serves as Deputy Head of Interpretation and Curator of Special Projects at the National Gallery of Art. She has worked on a wide array of modern and contemporary art exhibitions\, including Philip Guston Now; Afro-Atlantic Histories; Gordon Parks: The New Tide\, Early Work 1940-1950; and Sally Mann: A Thousand Crossings\, among many others. She frequently collaborates with museums in the United States and abroad and is honored to help bring to the National Gallery Elizabeth Catlett: A Black Revolutionary Artist. \n\n\n\n\n\n\n\n\nImage credits:Elizabeth Catlett\, Gossip\, 2005color digital and photo-lithograph on wove paperimage: 37.47 x 45.72 cm (14 3/4 x 18 in.)sheet: 59.69 x 60.96 cm (23 1/2 x 24 in.)National Gallery of Art\, Washington\, Reba and Dave Williams Collection\, Gift of Reba and Dave Williams© 2024 Mora-Catlett Family / Licensed by VAGA at Artists Rights Society (ARS)\, NY \n\n\n\nLynn K. Matheny\, courtesy of the Corcoran School of the Arts & Design\, George Washington University.
URL:https://www.arttable.org/event/dc-elizabeth-catlett-national-gallery-of-art/
LOCATION:National Gallery of Art\, East Building\, 4th St and Constitution Ave NW\, Washington\, District of Columbia\, 20565\, United States
CATEGORIES:National,Washington, D.C.
ATTACH;FMTTYPE=image/jpeg:https://www.arttable.org/wp-content/uploads/2025/01/5758-005.jpg
ORGANIZER;CN="ArtTable National":MAILTO:programs@arttable.org
END:VEVENT
BEGIN:VEVENT
DTSTART;TZID=America/New_York:20250417T160000
DTEND;TZID=America/New_York:20250420T180000
DTSTAMP:20260421T110327
CREATED:20250304T194703Z
LAST-MODIFIED:20250317T174036Z
UID:41212-1744905600-1745172000@www.arttable.org
SUMMARY:2025 San Francisco Art Fair | Complimentary General Passes
DESCRIPTION:All ArtTable Members are invited to claim their complimentary General passes for the 2025 San Francisco Art Fair\, running April 17- April 20! \n\n\n\nArt Market San Francisco is now the San Francisco Art Fair. This evolution is a direct affirmation of the fair’s commitment to the thriving arts ecosystem that defines the Bay Area. Continuing the fair’s dedication to San Francisco’s vibrant cultural institutions\, active collecting community\, and the vital notion of unwavering patronage\, the San Francisco Art Fair is a year-round platform for the many voices of its region.   \n\n\n\nMake sure to also sign up for our Guided Tour of the San Francisco Art Fair for ArtTable Members on April 18 at 1 pm. \n\n\n\nThese passes are only offered while supplies last. \n\n\n\nAdmission: \n\n\n\n\nFREE to All ArtTable Members\n\n\n\n\nAll registrants will receive an email after registration here with how to get their ticket(s). These passes are only offered while supplies last. \n\n\n\nLocation: Fort Mason Festival Pavilion2 Marina BoulevardSan Francisco\, CA 94123 \n\n\n\nSelect VIP Preview:Thursday\, April 17\, 2025: 4 pm – 6 pmExclusive Entry for Select VIPs \n\n\n\nOpening Night presented by RBC Wealth ManagementThursday\, April 17\, 2025: 6 pm – 9 pmExclusive Entry for Fair Pass Holders and Select VIPs \n\n\n\nPublic HoursFriday\, April 18\, 2025: 11 am – 7 pmSaturday\, April 19\, 2025: 11 am – 7 pmSunday\, April 20\, 2025: 11 am – 6 pm \n\n\n\nIf you want to be eligible for this or other opportunities\, consider upgrading your membership! Reach out to membership@arttable.org with any questions. \n\n\n\n\n\n\nNot a member? Join today!
URL:https://www.arttable.org/event/2025-san-francisco-art-fair-complimentary-general-passes/
CATEGORIES:National
ATTACH;FMTTYPE=image/jpeg:https://www.arttable.org/wp-content/uploads/2025/03/SFAF24-5.jpg
ORGANIZER;CN="ArtTable National":MAILTO:programs@arttable.org
END:VEVENT
BEGIN:VEVENT
DTSTART;TZID=America/New_York:20250418T130000
DTEND;TZID=America/New_York:20250418T140000
DTSTAMP:20260421T110327
CREATED:20250317T170706Z
LAST-MODIFIED:20250320T170009Z
UID:41889-1744981200-1744984800@www.arttable.org
SUMMARY:San Francisco\, CA | Guided Tour of the San Francisco Art Fair
DESCRIPTION:Join ArtTable for a special tour of the San Francisco Art Fair. Produced by AMP with Fair Director Kelly Freeman working in partnership with Artistic Director Nato Thompson\, the 2025 edition of the San Francisco Art Fair will present 85 leading galleries from around the world alongside a dynamic series of public programming at Fort Mason Festival Pavilion. This year’s programming will be a continuation of the fair’s consistent commitment to providing a platform that celebrates diverse perspectives and pushes the boundaries of artistic expression. \n\n\n\nProgram Admission: \n\n\n\n\nArtTable Members – $15\n\n\n\nMember Guests – $20\n\n\n\n\nAdmission includes complimentary access to the fair. \n\n\n\nNot a member? Join today! \n\n\n\nPlease note that ArtTable registration fees go toward administrative costs for the organization. \n\n\n\n\n\n\n\n\n\n\n\n\n\n\n\n\nImage credits:2024 San Francisco Art Fair\, Courtesy AMP
URL:https://www.arttable.org/event/san-francisco-ca-guided-tour-of-the-san-francisco-art-fair/
LOCATION:Fort Mason Center – Festival Pavilion\, 2 Marina Blvd.\, San Francisco\, California\, 94123\, United States
CATEGORIES:National,Northern California
ATTACH;FMTTYPE=image/jpeg:https://www.arttable.org/wp-content/uploads/2025/03/lo-res-sf-art-market-drew-bird-4-25-24-463.jpg
ORGANIZER;CN="ArtTable National":MAILTO:programs@arttable.org
END:VEVENT
BEGIN:VEVENT
DTSTART;TZID=America/New_York:20250423T110000
DTEND;TZID=America/New_York:20250427T220000
DTSTAMP:20260421T110327
CREATED:20250410T175340Z
LAST-MODIFIED:20250410T175343Z
UID:43353-1745406000-1745791200@www.arttable.org
SUMMARY:2025 Photography Show by AIPAD | Complimentary VIP Passes
DESCRIPTION:ArtTable Members are invited to claim their complimentary VIP passes for the 2025 Photography Show Presented by AIPAD.  \n\n\n\nThe Association of International Photography Art Dealers (AIPAD) cordially invites you to attend The Photography Show at the iconic Park Avenue Armory. The Photography Show transforms one of New York’s most notable architectural landmarks\, rich with social and design history\, into an immersive photography experience\, transcending eras\, attitudes\, and artistic styles. \n\n\n\nThe fair is the longest-running exhibition dedicated to the photographic medium in the world. It provides an international platform for collectors\, museum curators\, executives and professionals\, artists\, and photography enthusiasts.  \n\n\n\nEach VIP Pass provides access for two guests \n\n\n\n– VIP Pass\, access Wednesday\, April 23 – Sunday\, April 27– VIP Pass\, access Thursday\, April 24 – Sunday\, April 27 \n\n\n\nThese passes are only offered while supplies last. \n\n\n\nAll registrants will receive an email after registration here with how to get their ticket(s). These passes are only offered while supplies last. \n\n\n\nLocation: Park Avenue Armory643 Park Avenue\, New York\, NY \n\n\n\nVIP Opening Evening: Wednesday\, April 23 | 4pm – 9pm \n\n\n\nShow Hours: Thursday\, April 24 | 12pm – 8pm (11am VIP Hour)Friday\, April 25 | 12pm – 7pm (11am VIP Hour)Saturday\, April 26 | 12pm – 7pm (11am VIP Hour)Sunday\, April 27 | 11am – 5pm \n\n\n\nIf you want to be eligible for this or other opportunities\, consider upgrading your membership! Reach out to membership@arttable.org with any questions. \n\n\n\n\n\n\nNot a member? Join today!
URL:https://www.arttable.org/event/2025-photography-show-by-aipad-complimentary-vip-passes/
CATEGORIES:National
ATTACH;FMTTYPE=image/jpeg:https://www.arttable.org/wp-content/uploads/2025/04/AIPAD-Manhattan-NYC-Photo-Erica-Price-2.jpg
ORGANIZER;CN="ArtTable National":MAILTO:programs@arttable.org
END:VEVENT
BEGIN:VEVENT
DTSTART;TZID=America/New_York:20250424T110000
DTEND;TZID=America/New_York:20250427T200000
DTSTAMP:20260421T110327
CREATED:20250423T190707Z
LAST-MODIFIED:20250423T192949Z
UID:44955-1745492400-1745784000@www.arttable.org
SUMMARY:2025 EXPO Chicago | Complimentary VIP Passes
DESCRIPTION:ArtTable Members are invited to claim their complimentary VIP passes for EXPO CHICAGO 2025. \n\n\n\nSave the dates April 24–27\, 2025 for the next edition of EXPO CHICAGO Contemporary Art Fair. Leading contemporary and modern art galleries return to Navy Pier’s Festival Hall\, alongside a diverse and inventive program of talks\, on-site installations\, and public art initiatives. EXPO CHICAGO draws upon the city’s robust history as a vibrant international cultural destination\, while highlighting the region’s contemporary arts community. \n\n\n\nMake sure to register for the ArtTable Brunch at EXPO on April 25 at 9:30 AM. \n\n\n\nEach VIP Pass provides access for one guest– VIP Pass\, access on Thursday\, April 24 at 12 pm. \n\n\n\nThese passes are only offered while supplies last. \n\n\n\nAll registrants will receive an email after registration here with how to get their ticket. These passes are only offered while supplies last. \n\n\n\nLocation: Navy Pier Festival Hall600 E Grand AveChicago IL 60611 \n\n\n\nVIP Preview:Thursday\, April 24\, 2025By Invitation Only. Check your VIP pass for entry time. Fair closes at 8:00pm \n\n\n\nGeneral Admission:Thursday\, April 24\, 2025 | 5:00–8:00 pm* Opening Night Ticket holders onlyFriday\, April 25\, 2025 | 11:00 am – 7:00 pmSaturday\, April 26\, 2025 | 11:00 am – 7:00 pmSunday\, April 27\, 2025 | 11:00 am – 6:00 pm \n\n\n\nIf you want to be eligible for this or other opportunities\, consider upgrading your membership! Reach out to membership@arttable.org with any questions. \n\n\n\n\n\n\nNot a member? Join today!
URL:https://www.arttable.org/event/2025-expo-chicago-complimentary-vip-passes/
CATEGORIES:National
ATTACH;FMTTYPE=image/png:https://www.arttable.org/wp-content/uploads/2025/04/Screenshot-2025-04-23-at-2.59.30 PM.png
ORGANIZER;CN="ArtTable National":MAILTO:programs@arttable.org
END:VEVENT
BEGIN:VEVENT
DTSTART;TZID=America/New_York:20250425T093000
DTEND;TZID=America/New_York:20250425T110000
DTSTAMP:20260421T110327
CREATED:20250319T181812Z
LAST-MODIFIED:20250418T174455Z
UID:42264-1745573400-1745578800@www.arttable.org
SUMMARY:Chicago\, IL | ArtTable Brunch at EXPO Chicago
DESCRIPTION:Here at ArtTable\, we love nothing more than a pre-art fair brunch. Join us at EXPO Chicago for drinks\, bites\, and networking before exploring the 2025 edition of the fair. We are excited to be joined by Kate Sierzputowski\, Artistic Director of the fair! \n\n\n\nEXPO CHICAGO Contemporary Art Fair showcases leading contemporary and modern art galleries each April at Navy Pier’s Festival Hall\, alongside a diverse and inventive program of talks\, on-site installations\, and public art initiatives. Inaugurated in 2012\, EXPO CHICAGO draws upon the city’s robust history as a vibrant international cultural destination\, while highlighting the region’s contemporary arts community. In 2023\, EXPO CHICAGO was acquired by Frieze\, the world’s leading platform for modern and contemporary art. \n\n\n\nPlease review EXPO Chicago’s accessibility page for available accommodations. Please email us at programs@arttable.org with any accommodation requests. \n\n\n\nProgram Admission: \n\n\n\n\nArtTable Members – $50\n\n\n\nMember Guests – $60\n\n\n\nGeneral Admission – $70\n\n\n\n\nNot a member? Join today! \n\n\n\nAll registration fees go toward administrative costs for the nonprofit organization.  \n\n\n\n\n\n\n\n\n\n\n\n\n\n\n\n\n\n\n\n\nImage credits:The scene at the 2023 edition of Expo Chicago\, at Navy Pier.
URL:https://www.arttable.org/event/chicago-il-arttable-brunch-at-expo-chicago/
LOCATION:EXPO Chicago\, Navy Pier\, Chicago\, Illinois\, 60611\, United States
CATEGORIES:National,Washington, D.C.
ATTACH;FMTTYPE=image/webp:https://www.arttable.org/wp-content/uploads/2025/03/lead.webp
ORGANIZER;CN="ArtTable National":MAILTO:programs@arttable.org
END:VEVENT
END:VCALENDAR