BEGIN:VCALENDAR
VERSION:2.0
PRODID:-//ArtTable - ECPv6.15.20//NONSGML v1.0//EN
CALSCALE:GREGORIAN
METHOD:PUBLISH
X-ORIGINAL-URL:https://www.arttable.org
X-WR-CALDESC:Events for ArtTable
REFRESH-INTERVAL;VALUE=DURATION:PT1H
X-Robots-Tag:noindex
X-PUBLISHED-TTL:PT1H
BEGIN:VTIMEZONE
TZID:America/New_York
BEGIN:DAYLIGHT
TZOFFSETFROM:-0500
TZOFFSETTO:-0400
TZNAME:EDT
DTSTART:20210314T070000
END:DAYLIGHT
BEGIN:STANDARD
TZOFFSETFROM:-0400
TZOFFSETTO:-0500
TZNAME:EST
DTSTART:20211107T060000
END:STANDARD
BEGIN:DAYLIGHT
TZOFFSETFROM:-0500
TZOFFSETTO:-0400
TZNAME:EDT
DTSTART:20220313T070000
END:DAYLIGHT
BEGIN:STANDARD
TZOFFSETFROM:-0400
TZOFFSETTO:-0500
TZNAME:EST
DTSTART:20221106T060000
END:STANDARD
BEGIN:DAYLIGHT
TZOFFSETFROM:-0500
TZOFFSETTO:-0400
TZNAME:EDT
DTSTART:20230312T070000
END:DAYLIGHT
BEGIN:STANDARD
TZOFFSETFROM:-0400
TZOFFSETTO:-0500
TZNAME:EST
DTSTART:20231105T060000
END:STANDARD
END:VTIMEZONE
BEGIN:VEVENT
DTSTART;TZID=America/New_York:20220208T163000
DTEND;TZID=America/New_York:20220208T163000
DTSTAMP:20260422T100840
CREATED:20220203T184426Z
LAST-MODIFIED:20220203T215721Z
UID:7809-1644337800-1644337800@www.arttable.org
SUMMARY:Virtual | Alternative Art Spaces in Southern California\, presented with Intersect Palm Springs
DESCRIPTION:1:30pm PT/2:30pm MT/3:30pm CT/4:30pm EST\nPlease join us for a discussion about the development of alternative art spaces\, specifically throughout the Southern California region. In this virtual discussion\, we will hear from several professionals who have either founded or currently run alternative art spaces in the Southern California region\, and will address questions like\, what makes an art space “alternative?” How are these spaces addressing the underserved needs within the local art world? Our panelists will speak to how their respective organizations are implementing alternative methods in order to reach their goals and further their missions. \nPanelists: \n\nJordan Karney Chaim\, Art historian\, writer\, and independent curator\nKristine Schomaker\, Director\, Shoebox Projects\nJoy Silverman\, Former Executive Director\, LACE; Board Member\, Feminist Center for Creative Work\n\nThe discussion will be moderated by Liza Shapiro\, Director & Co-founder of CURA. \nThis program is free and open to all. Please register via the below button to receive the Zoom information. \n \n  \nAccessibility: Please note that this program will include live closed captioning services. Please email programs@arttable.org to request any additional accommodations.  \nThis program is presented in partnership with Intersect Palm Springs. Complimentary VIP tickets are available for ArtTable members via the membership portal.
URL:https://www.arttable.org/event/partner-program-virtual-alternative-art-spaces-in-southern-california-presented-with-intersect-palm-springs/
LOCATION:Zoom
CATEGORIES:National
ATTACH;FMTTYPE=image/jpeg:https://www.arttable.org/wp-content/uploads/2022/02/AltArt.jpeg
ORGANIZER;CN="ArtTable National":MAILTO:programs@arttable.org
END:VEVENT
END:VCALENDAR