BEGIN:VCALENDAR
VERSION:2.0
PRODID:-//ArtTable - ECPv6.15.20//NONSGML v1.0//EN
CALSCALE:GREGORIAN
METHOD:PUBLISH
X-ORIGINAL-URL:https://www.arttable.org
X-WR-CALDESC:Events for ArtTable
REFRESH-INTERVAL;VALUE=DURATION:PT1H
X-Robots-Tag:noindex
X-PUBLISHED-TTL:PT1H
BEGIN:VTIMEZONE
TZID:America/New_York
BEGIN:DAYLIGHT
TZOFFSETFROM:-0500
TZOFFSETTO:-0400
TZNAME:EDT
DTSTART:20210314T070000
END:DAYLIGHT
BEGIN:STANDARD
TZOFFSETFROM:-0400
TZOFFSETTO:-0500
TZNAME:EST
DTSTART:20211107T060000
END:STANDARD
BEGIN:DAYLIGHT
TZOFFSETFROM:-0500
TZOFFSETTO:-0400
TZNAME:EDT
DTSTART:20220313T070000
END:DAYLIGHT
BEGIN:STANDARD
TZOFFSETFROM:-0400
TZOFFSETTO:-0500
TZNAME:EST
DTSTART:20221106T060000
END:STANDARD
BEGIN:DAYLIGHT
TZOFFSETFROM:-0500
TZOFFSETTO:-0400
TZNAME:EDT
DTSTART:20230312T070000
END:DAYLIGHT
BEGIN:STANDARD
TZOFFSETFROM:-0400
TZOFFSETTO:-0500
TZNAME:EST
DTSTART:20231105T060000
END:STANDARD
END:VTIMEZONE
BEGIN:VEVENT
DTSTART;TZID=America/New_York:20220209T170000
DTEND;TZID=America/New_York:20220209T180000
DTSTAMP:20260423T062855
CREATED:20220127T235837Z
LAST-MODIFIED:20220128T163353Z
UID:7786-1644426000-1644429600@www.arttable.org
SUMMARY:Virtual | DEIA Action Plan Talk Back - Membership
DESCRIPTION:2pm PT / 3pm MT / 4pm CT / 5pm ET\nAt its inception\, ArtTable was a driving force for gender parity in the arts – creating community\, driving policy change\, and building a network of resources for women to forge a confident and unquestioned place as leaders in the art world. At the core of our mission\, we aim to advance the leadership of women in the visual arts by expanding opportunities for women from diverse backgrounds and at all stages of their careers. It is with our mission in mind that we have outlined an action plan for ensuring that diversity\, equity\, inclusion\, and accessibility remain at the center of our organization. \nWe invite you all to read our proposal for furthering the key ideas of diversity\, equity\, inclusion\, and accessibility in our organization. We hope to gather feedback on the action plan at a series of Talk Backs which aim to gather community feedback and answer any questions you all may have. This second Talk Back will focus on the Membership portions of the action plan. The next and final Talk Back will focus on Programming. \nIn advance of the Talk Back\, please submit your questions here to allow for adequate preparation. \nIf you are unable to attend or would like to provide anonymous feedback\, you can do so on our DEIA Community Engagement form. \n \n  \n(You will receive an email confirmation containing the Zoom link.) \nAccessibility: Please note that this program will offer live closed captioning. If you require additional accommodations\, please email programs@arttable.org. \nCan’t join us for this Talk Back session? The next session will take place on Thursday\, February 24\, at 1pm ET with a focus on Programming.
URL:https://www.arttable.org/event/virtual-deia-action-plan-talk-back-2/
LOCATION:Zoom
CATEGORIES:National
ATTACH;FMTTYPE=image/png:https://www.arttable.org/wp-content/uploads/2022/01/Screen-Shot-2022-01-25-at-2.22.28-PM-e1643138613740.png
ORGANIZER;CN="ArtTable National":MAILTO:programs@arttable.org
END:VEVENT
END:VCALENDAR