BEGIN:VCALENDAR
VERSION:2.0
PRODID:-//ArtTable - ECPv6.15.20//NONSGML v1.0//EN
CALSCALE:GREGORIAN
METHOD:PUBLISH
X-ORIGINAL-URL:https://www.arttable.org
X-WR-CALDESC:Events for ArtTable
REFRESH-INTERVAL;VALUE=DURATION:PT1H
X-Robots-Tag:noindex
X-PUBLISHED-TTL:PT1H
BEGIN:VTIMEZONE
TZID:America/New_York
BEGIN:DAYLIGHT
TZOFFSETFROM:-0500
TZOFFSETTO:-0400
TZNAME:EDT
DTSTART:20210314T070000
END:DAYLIGHT
BEGIN:STANDARD
TZOFFSETFROM:-0400
TZOFFSETTO:-0500
TZNAME:EST
DTSTART:20211107T060000
END:STANDARD
BEGIN:DAYLIGHT
TZOFFSETFROM:-0500
TZOFFSETTO:-0400
TZNAME:EDT
DTSTART:20220313T070000
END:DAYLIGHT
BEGIN:STANDARD
TZOFFSETFROM:-0400
TZOFFSETTO:-0500
TZNAME:EST
DTSTART:20221106T060000
END:STANDARD
BEGIN:DAYLIGHT
TZOFFSETFROM:-0500
TZOFFSETTO:-0400
TZNAME:EDT
DTSTART:20230312T070000
END:DAYLIGHT
BEGIN:STANDARD
TZOFFSETFROM:-0400
TZOFFSETTO:-0500
TZNAME:EST
DTSTART:20231105T060000
END:STANDARD
END:VTIMEZONE
BEGIN:VEVENT
DTSTART;TZID=America/New_York:20221017T180000
DTEND;TZID=America/New_York:20221017T180000
DTSTAMP:20260421T172947
CREATED:20220919T153244Z
LAST-MODIFIED:20220922T195258Z
UID:10167-1666029600-1666029600@www.arttable.org
SUMMARY:Virtual | ArtTable Strategic Plan Talkback
DESCRIPTION:3pm PST / 4pm MST / 5pm CST / 6pm EST \n\n\n\nPlease join us for an intimate discussion about ArtTable’s future! \n\n\n\nIn September 2018\, ArtTable’s Board of Directors and Executive Director held a strategic planning workshop to facilitate the strategic planning process resulting in strategic goals outlined for the organization from FY 2020-2022. Within the workshop\, we established key goals for the organization\, conducted an analysis\, and identified our current strengths\, weaknesses\, opportunities\, and threats. In 2021\, as part of our Inclusivity goals included in the strategic plan\, we launched a full diversity\, equity\, inclusion and accessibility action plan. The FY23 Board Members\, Executive Director\, and staff are committed to updating the full strategic plan for our strategic goals from FY 2022 – 2025. As a valued member of ArtTable\, we would like your input! We hope you can be a part of important change for the future of ArtTable. A list of questions and materials will be circulated prior to the discussion\, but please see an overview of our strategic plan here on our website. More information about the structure of the talkback will be available soon. \n\n\n\n \n\n\n\nIn advance of the Talkback\, please submit your questions here to allow for adequate preparation. \n\n\n\n\n\n\n\n\n\n\n\nYou will receive an email confirmation containing the Zoom link. \n\n\n\nAccessibility: Please note that this program will offer live closed captioning. If you require additional accommodations\, please email programs@arttable.org.
URL:https://www.arttable.org/event/virtual-arttable-strategic-plan-talkback/
CATEGORIES:National
ATTACH;FMTTYPE=image/png:https://www.arttable.org/wp-content/uploads/2022/09/IG-Templates-Wide.png
ORGANIZER;CN="ArtTable National":MAILTO:programs@arttable.org
END:VEVENT
END:VCALENDAR