BEGIN:VCALENDAR
VERSION:2.0
PRODID:-//ArtTable - ECPv6.15.20//NONSGML v1.0//EN
CALSCALE:GREGORIAN
METHOD:PUBLISH
X-WR-CALNAME:ArtTable
X-ORIGINAL-URL:https://www.arttable.org
X-WR-CALDESC:Events for ArtTable
REFRESH-INTERVAL;VALUE=DURATION:PT1H
X-Robots-Tag:noindex
X-PUBLISHED-TTL:PT1H
BEGIN:VTIMEZONE
TZID:America/Los_Angeles
BEGIN:DAYLIGHT
TZOFFSETFROM:-0800
TZOFFSETTO:-0700
TZNAME:PDT
DTSTART:20200308T100000
END:DAYLIGHT
BEGIN:STANDARD
TZOFFSETFROM:-0700
TZOFFSETTO:-0800
TZNAME:PST
DTSTART:20201101T090000
END:STANDARD
BEGIN:DAYLIGHT
TZOFFSETFROM:-0800
TZOFFSETTO:-0700
TZNAME:PDT
DTSTART:20210314T100000
END:DAYLIGHT
BEGIN:STANDARD
TZOFFSETFROM:-0700
TZOFFSETTO:-0800
TZNAME:PST
DTSTART:20211107T090000
END:STANDARD
BEGIN:DAYLIGHT
TZOFFSETFROM:-0800
TZOFFSETTO:-0700
TZNAME:PDT
DTSTART:20220313T100000
END:DAYLIGHT
BEGIN:STANDARD
TZOFFSETFROM:-0700
TZOFFSETTO:-0800
TZNAME:PST
DTSTART:20221106T090000
END:STANDARD
END:VTIMEZONE
BEGIN:VEVENT
DTSTART;TZID=America/Los_Angeles:20211028T163000
DTEND;TZID=America/Los_Angeles:20211028T163000
DTSTAMP:20260424T000458
CREATED:20211012T213836Z
LAST-MODIFIED:20211015T134859Z
UID:7010-1635438600-1635438600@www.arttable.org
SUMMARY:NoCal | Curator Tour of 'New Time: Art and Feminisms in the 21st Century'\, at BAMPFA
DESCRIPTION:Join Claire Frost\, Curatorial Assistant at BAMPFA\, for a guided tour of New Time: Art and Feminisms in the 21st Century at the Berkeley Art Museum and Pacific Film Archive. Afterwards\, join Claire and your fellow ArtTable members at a nearby outdoor patio for no-host drinks and a discussion under guidance of local writer/curator and ArtTable member\, Marcia Tanner. \nThis program is $5 and open to ArtTable members only. Members may bring a guest for an additional $10. This includes entry to the museum but not post-tour drinks. \nNot an ArtTable member? Join today! \n\nPlease read before registering:\nCovid-19 Guidelines: \nIn accordance with an order from the San Francisco Department of Public Health\, all individuals regardless of vaccination status must wear a mask while inside the museum. All staff and visitors are required to wear face coverings. BAMPFA has increased sanitizing high-touch areas using products approved for use against COVID-19. Hand sanitizer stations are available throughout the building. \nIf you are showing COVID-19 symptoms\, please stay home. This is critical to the health and safety of museum staff and communities. Please click here for additional health and safety guidelines at BAMPFA. \nAccessibility: \nThe UC Berkeley Art Museum and Pacific Film Archive (BAMPFA) is wheelchair accessible. A wheelchair is available at the admissions desk for visitor use. Assisted listening devices are available at the admissions desk for all film programs. Please click here for additional accessibility information at BAMPFA. \nGetting There: \nBAMPFA is located at 2155 Center Street\, between Oxford Street and Shattuck Avenue\, in downtown Berkeley. BAMPFA is Bartable and parking is available. Please click here for more information. \n  \n \n  \n\nAbout the speakers\n \nClaire Frost is Curatorial Assistant at the Berkeley Art Museum and Pacific Film Archive. In addition to BAMPFA\, she has held positions at the Contemporary Jewish Museum\, ArtSpan\, San Francisco Museum of Modern Art\, and Intersection for the Arts. A Bay Area resident since 2011\, she took a two year hiatus to attend grad school in Chicago\, where she received her MA in Modern and Contemporary Art History\, Theory\, and Criticism at the School of the Art Institute of Chicago in 2017. Her graduate studies focused on the intersection of identity and historiography and the way in which artists’ communities are documented\, particularly in relation to second wave feminism and conceptual art. She is the founder and curator of the apartment galleries COLLABO in Chicago\, and Claire Frost in San Francisco. \nFormer PR Director at SFMOMA and Executive Director of the San Jose ICA\, art writer and independent curator Marcia Tanner has organized three exhibitions of contemporary feminist art: Bad Girls West\, 1994\, the Wight Art Gallery\, UCLA; Brides of Frankenstein\, 2005\, San Jose Museum of Art; and We Interrupt Your Program\, 2008\, Mills College Art Museum. She has been an ArtTable Member since 1987.] Her Berkeleyside review of New Time can be found here.\nAbout the exhibition\nNew Time: Art and Feminisms in the 21st Century is a major survey exploring recent feminist practices in contemporary art. In 1980 Lucy Lippard argued that feminist art is “neither a style nor a movement” but rather “a value system\, a revolutionary strategy\, a way of life.” Taking Lippard’s statement as a point of departure\, the exhibition examines the values\, strategies\, and ways of life reflected in current feminist art. In keeping with Griselda Pollock’s observation that “feminism is a historical project and thus is itself constantly shaped and remodelled in relation to the living process of women’s struggles\,” New Time aims to demonstrate that feminism in the twenty-first century is multifaceted\, encompassing many complex issues and perspectives\, and therefore cannot be reduced to a single subject\, style\, or agenda. Although artworks made since 2000 are the primary focus\, the objects and installations on view span several generations\, mediums\, geographies\, and political sensibilities. In this way the project seeks to convey the heterogeneous\, intergenerational\, and gender-fluid nature of feminist practices today. Click here to read more about the exhibition. \nThank you to Kitty Teerling\, Artigo Tours\, for organizing this program. \n\nImages: \n\nLinda Stark: Stigmata\, 2011; oil on canvas over panel; 36 x 36 in.; BAMPFA\, purchase made possible through a gift of the Paul L. Wattis Foundation.\nClaire Frost
URL:https://www.arttable.org/event/nocal-curator-guided-tour-of-new-time-art-and-feminisms-at-bampfa-with-claire-frost/
LOCATION:BAMPFA\, 2155 Center St\, Berkeley\, CA\, 94720\, United States
CATEGORIES:Northern California
ATTACH;FMTTYPE=image/png:https://www.arttable.org/wp-content/uploads/2021/10/xdrfHCHRVn-e1634074761370.png
ORGANIZER;CN="ArtTable Northern California":MAILTO:programs@arttable.org
END:VEVENT
END:VCALENDAR