BEGIN:VCALENDAR
VERSION:2.0
PRODID:-//ArtTable - ECPv6.15.20//NONSGML v1.0//EN
CALSCALE:GREGORIAN
METHOD:PUBLISH
X-WR-CALNAME:ArtTable
X-ORIGINAL-URL:https://www.arttable.org
X-WR-CALDESC:Events for ArtTable
REFRESH-INTERVAL;VALUE=DURATION:PT1H
X-Robots-Tag:noindex
X-PUBLISHED-TTL:PT1H
BEGIN:VTIMEZONE
TZID:America/New_York
BEGIN:DAYLIGHT
TZOFFSETFROM:-0500
TZOFFSETTO:-0400
TZNAME:EDT
DTSTART:20190310T070000
END:DAYLIGHT
BEGIN:STANDARD
TZOFFSETFROM:-0400
TZOFFSETTO:-0500
TZNAME:EST
DTSTART:20191103T060000
END:STANDARD
BEGIN:DAYLIGHT
TZOFFSETFROM:-0500
TZOFFSETTO:-0400
TZNAME:EDT
DTSTART:20200308T070000
END:DAYLIGHT
BEGIN:STANDARD
TZOFFSETFROM:-0400
TZOFFSETTO:-0500
TZNAME:EST
DTSTART:20201101T060000
END:STANDARD
BEGIN:DAYLIGHT
TZOFFSETFROM:-0500
TZOFFSETTO:-0400
TZNAME:EDT
DTSTART:20210314T070000
END:DAYLIGHT
BEGIN:STANDARD
TZOFFSETFROM:-0400
TZOFFSETTO:-0500
TZNAME:EST
DTSTART:20211107T060000
END:STANDARD
END:VTIMEZONE
BEGIN:VEVENT
DTSTART;TZID=America/New_York:20201106T110000
DTEND;TZID=America/New_York:20201106T120000
DTSTAMP:20260422T002409
CREATED:20201019T164714Z
LAST-MODIFIED:20210217T233416Z
UID:3889-1604660400-1604664000@www.arttable.org
SUMMARY:NY | Artist-Led Tour of 'Beth Lipman: Collective Elegy' at the Museum of Arts & Design
DESCRIPTION:Please join us for this exclusive in-person tour of Beth Lipman: Collective Elegy\, made possible by a generous contribution from the Alturas Foundation and led by artist Beth Lipman at the Museum of Arts and Design in New York City! The exhibition brings together a decade of work\, and is the first major scholarly assessment of the artist’s career. In these turbulent times\, Lipman’s art reminds us of where we came from\, the subjectivity of history\, and the need for harmony with the larger world. Click here to read more about the exhibition. \nThis event is $25 for ArtTable members and $35 for non-members. There are two time slots for this event with extremely limited availability.  \nBy registering for this event you consent to having your contact information shared with the Museum of Arts and Design only to be used in the event that contact tracing is needed. Your information will not be used for any other communications. Please read the Museum of Arts and Design’s policy regarding Health and Safety regulations at the museum before registering.\nClick here to register for the 11:00am tour.\nClick here to register for the 11:30am tour.\n\nAbout Beth Lipman \nLipman is an American artist whose sculptural practice explores aspects of material culture and deep time through still lives\, site-specific installations\, and photographs. Ephemeral and intricate\, the work addresses mortality\, materiality\, and temporality. Lipman is also known for site responsive installations that activate the specific history of objects\, individuals and institutions. Collective Elegy\, her solo exhibition at the Museum of Arts and Design\, is on view September 24- April 4 2021. She has received numerous awards including a USA Berman Bloch Fellowship\, Pollock Krasner Grant\, Virginia Groot Foundation Grant\, and a Louis Comfort Tiffany Foundation Grant. Recent works include All in All\, a large scale sculpture that investigates the nature of time and Belonging(s) a sculptural response to the life of Abigail Levy Franks for the Crystal Bridges Museum of American Art (AR). Lipman has exhibited her work internationally at such institutions as the Ringling Museum of Art (FL)\, ICA/MECA (ME)\, RISD Museum (RI)\, Milwaukee Art Museum (WI)\, Gustavsbergs Konsthall(Sweden) and the Renwick Gallery of the Smithsonian American Art Museum (DC). Her work has been acquired by numerous museums including the North Carolina Museum of Art\, Brooklyn Museum of Art (NY)\, Kemper Museum for Contemporary Art (MO)\, Smithsonian American Art Museum (DC)\, Jewish Museum (NY)\, Norton Museum of Art\, (FL)\, and the Corning Museum of Glass (NY). The artist is represented by Nohra Haime Gallery (NY) and Cade Tompkins Projects (RI). Lipman lives and works in Sheboygan Falls\, Wisconsin. \nThank you to Joy Glidden\, Beth Lipman\, Lydia Brawner (MAD)\, and Samantha DeTillio (MAD) for working together to make this program possible. Additional thanks to the Alturas Foundation for generously funding this program. \n \n\nImage Credits: \n\nAll in All\, 2020\, 74” (188 cm) x 134” (340 cm) x 92” (234 cm)\, mixed media; photo credit: Beth Lipman\nBeth Lipman\, photographed by Richard Gottscho
URL:https://www.arttable.org/event/artist-led-tour-of-beth-lipman-collective-elegy-at-the-museum-of-arts-design/
LOCATION:Museum of Arts & Design\, 2 Columbus Circle\, New York City\, NY\, 10019\, United States
CATEGORIES:New York
ATTACH;FMTTYPE=image/png:https://www.arttable.org/wp-content/uploads/2020/10/Screen-Shot-2020-10-19-at-12.44.35-PM-e1603125953659.png
ORGANIZER;CN="ArtTable National":MAILTO:programs@arttable.org
END:VEVENT
BEGIN:VEVENT
DTSTART;TZID=America/New_York:20201113T120000
DTEND;TZID=America/New_York:20201113T130000
DTSTAMP:20260422T002409
CREATED:20201001T151040Z
LAST-MODIFIED:20210216T171557Z
UID:3750-1605268800-1605272400@www.arttable.org
SUMMARY:Virtual | Artist Talk with Letitia Huckaby
DESCRIPTION:12pm ET | 11am CT | 9am PT\nArtTable’s Artist Talk series is made possible by the Pollock Krasner Foundation. Originally formatted as in-person Artist Breakfasts\, ArtTable has moved all programming into the virtual realm during the pandemic. Please join us for a virtual Artist Talk with photographer Letitia Huckaby. \nThis program is free for ArtTable members and $5 for non-members. \nHow to take part: \n\nClick here to Register for this program.\nFollowing registration you will receive call-in information in the form of a ZOOM link.\nBefore joining a Zoom meeting on a computer or mobile device\, you can download the Zoom app from the Download Center and select the “Zoom Client for Meetings” option. Alternatively\, you will be prompted to download and install Zoom when you click a join link.\nFor further instruction on how to use Zoom\, see here.\n\n\nAbout Letitia Huckaby \nLetitia Huckaby has a degree in Journalism from the University of Oklahoma\, a BFA from the Art Institute of Boston in photography and her Master’s degree from the University of North Texas in Denton. Huckaby has exhibited as an emerging artist at Phillips New York\, the Tyler Museum of Art\, The Studio School of Harlem\, the Camden Palace Hotel in Cork City\, Ireland\, and the Texas Biennial at Blue Star Contemporary Art Museum. Her work is included in several prestigious collections; the Library of Congress\, the McNay Art Museum\, the Art Museum of Southeast Texas\, and the Samella Lewis Contemporary Art Collection at Scripps College in Claremont\, California. Huckaby was a featured artist in MAP2020: The Further We Roll\, The More We Gain at the Amon Carter Museum and State of the Art 2020 at The Momentary and Crystal Bridges Museum\, both opened in the spring of 2020. She is currently a Fall 2020 Artist in Residence at ArtPace in San Antonio\, TX. \nClick here to learn more about Letitia and her work. \nThis program is generously supported by the Pollock-Krasner Foundation. The Pollock-Krasner Foundation has been a leader in providing grants enabling emerging and established artists to focus on their work. Funding helps artists to create new work\, acquire art supplies\, rent studio space\, and prepare exhibitions. The Foundation also provides grants to organizations that directly engage with artists\, such as artist residency programs. Please visit www.pkf.org for more information. \nThank you to Bryn Larsen and Lindsay Davis\, ArtTable Houston Chapter\, and the Pollock Krasner Foundation. \n\nImage Credits:  \n\nLetitia Huckaby\, photographed by Rambo\nSweet Enough\, Pigment Print on Cotton Fabric w/ Embroidery Hoop\, 12” x 20”\, 2020\, Courtesy of the artist & Foto Relevance Gallery\, Houston\, TX
URL:https://www.arttable.org/event/virtual-artist-talk-with-letitia-huckaby/
LOCATION:California
CATEGORIES:New York,National,Chicago,Florida,Northern California,Southern California,Northwest,Philadelphia,Washington, D.C.,Travel,Houston,ArtTable Circle
ATTACH;FMTTYPE=image/png:https://www.arttable.org/wp-content/uploads/2020/10/Screen-Shot-2020-10-01-at-11.01.00-AM-e1601565311185.png
ORGANIZER;CN="ArtTable National":MAILTO:programs@arttable.org
END:VEVENT
BEGIN:VEVENT
DTSTART;TZID=America/New_York:20201119T120000
DTEND;TZID=America/New_York:20201119T130000
DTSTAMP:20260422T002409
CREATED:20201013T142352Z
LAST-MODIFIED:20210216T170953Z
UID:3830-1605787200-1605790800@www.arttable.org
SUMMARY:Virtual | Artist Talk with Karen Lofgren
DESCRIPTION:12pm ET | 11am CT | 9am PT\nArtTable’s Artist Talk series is made possible by the Pollock Krasner Foundation. Originally formatted as in-person Artist Breakfasts\, ArtTable has moved all programming into the virtual realm during the pandemic. Please join us for a virtual Artist Talk with Karen Lofgren. \nThis program is $5 for ArtTable members and $10 for non-members. \nHow to take part: \n\nClick here to Register for this program.\nFollowing registration you will receive call-in information in the form of a ZOOM link.\nBefore joining a Zoom meeting on a computer or mobile device\, you can download the Zoom app from the Download Center and select the “Zoom Client for Meetings” option. Alternatively\, you will be prompted to download and install Zoom when you click a join link.\nFor further instruction on how to use Zoom\, see here.\n\n\n \nArtist Statement \nI was influenced by my childhood within a utopian back-to-the land island community\, and at a Tibetan dharma center. Raised by an alternative medicine practitioner and in experimental social structures\, I was born into countercultural participation. Fundamentally centered on belief structures and systems\, my practice mediates space by linking the history of ritual and belief throughout various cultures and time periods\, and placing this material in relationship through the approach of “radical subjectivity” in the studio. \nAbout Karen Lofgren \n \nKaren Lofgren is a Los Angeles-based artist working primarily in sculpture and artist books from a feminist and decolonial perspective\, and holds an MFA from CalArts. Her research centers on ritual\, history\, mythology\, and the construction of consciousness over time\, forming relationships between cultural systems and other wild systems. She was a 2019 Pollock-Krasner grant recipient; receives Canada Council Grant support; and was Fulbright Core Scholar at UAL\, Central St. Martins College in 2017/2018. \nSolo exhibitions include What is To Cure at Royale Projects Contemporary Art; Trajectory Object c. 2000-2050 with High Desert Test Sites\, as well as solo shows at LACE; Pitzer Art Galleries; and Machine Project. Group exhibitions include PRISKA PASQUER; Palm Springs Art Museum; Commonwealth & Council; MASS Gallery; LACMA; Human Resources; Bank of America; Royal College of Art; Nicodim Gallery; and OCAD University. Her projects have also received support from Mike Kelley Foundation; Durfee Foundation; the Andy Warhol Foundation for the Visual Arts; The Ranch Projects; and West of Rome Public Art. \nThis program is generously supported by the Pollock-Krasner Foundation. The Pollock-Krasner Foundation has been a leader in providing grants enabling emerging and established artists to focus on their work. Funding helps artists to create new work\, acquire art supplies\, rent studio space\, and prepare exhibitions. The Foundation also provides grants to organizations that directly engage with artists\, such as artist residency programs. Please visit www.pkf.org for more information. \nThank you to Shana Nys Dambrot\, ArtTable Southern California Chapter\, and the Pollock Krasner Foundation. \n\nImage Credits: \n\nKaren Lofgren in studio with work in progress\, 2020\n\nWhat is to Cure\, installation view in Brave New Worlds at Palm Springs Art Museum\, 2019\nLike This I See You In Dreams\, 2018
URL:https://www.arttable.org/event/virtual-artist-talk-with-karen-lofgren/
LOCATION:California
CATEGORIES:New York,National,Chicago,Florida,Northern California,Southern California,Northwest,Philadelphia,Washington, D.C.,Travel,Houston,ArtTable Circle
ATTACH;FMTTYPE=image/jpeg:https://www.arttable.org/wp-content/uploads/2020/10/IMG_8174-e1602598945734.jpeg
ORGANIZER;CN="ArtTable National":MAILTO:programs@arttable.org
END:VEVENT
END:VCALENDAR