BEGIN:VCALENDAR
VERSION:2.0
PRODID:-//ArtTable - ECPv6.15.20//NONSGML v1.0//EN
CALSCALE:GREGORIAN
METHOD:PUBLISH
X-WR-CALNAME:ArtTable
X-ORIGINAL-URL:https://www.arttable.org
X-WR-CALDESC:Events for ArtTable
REFRESH-INTERVAL;VALUE=DURATION:PT1H
X-Robots-Tag:noindex
X-PUBLISHED-TTL:PT1H
BEGIN:VTIMEZONE
TZID:America/New_York
BEGIN:DAYLIGHT
TZOFFSETFROM:-0500
TZOFFSETTO:-0400
TZNAME:EDT
DTSTART:20220313T070000
END:DAYLIGHT
BEGIN:STANDARD
TZOFFSETFROM:-0400
TZOFFSETTO:-0500
TZNAME:EST
DTSTART:20221106T060000
END:STANDARD
BEGIN:DAYLIGHT
TZOFFSETFROM:-0500
TZOFFSETTO:-0400
TZNAME:EDT
DTSTART:20230312T070000
END:DAYLIGHT
BEGIN:STANDARD
TZOFFSETFROM:-0400
TZOFFSETTO:-0500
TZNAME:EST
DTSTART:20231105T060000
END:STANDARD
BEGIN:DAYLIGHT
TZOFFSETFROM:-0500
TZOFFSETTO:-0400
TZNAME:EDT
DTSTART:20240310T070000
END:DAYLIGHT
BEGIN:STANDARD
TZOFFSETFROM:-0400
TZOFFSETTO:-0500
TZNAME:EST
DTSTART:20241103T060000
END:STANDARD
END:VTIMEZONE
BEGIN:VEVENT
DTSTART;TZID=America/New_York:20230112T080000
DTEND;TZID=America/New_York:20230112T080000
DTSTAMP:20260424T055549
CREATED:20221220T181148Z
LAST-MODIFIED:20221222T193610Z
UID:11097-1673510400-1673510400@www.arttable.org
SUMMARY:Washington\, DC | BreakfastTable with Fatima Al-Dosari at the Qatar America Institute for Culture
DESCRIPTION:Join ArtTable in Washington\, DC for a BreakfastTable program with Fatima Al-Dosari\, Executive Director of the Qatar America Institute for Culture. Come learn about her journey and her efforts to further strengthen cultural understanding\, dialogue\, appreciation\, and long-term partnerships between her home country\, Qatar\, and the United States. \n\n\n\nFatima also leverages her wide-ranging knowledge of Qatari culture\, Arabic fluency\, and decade experience of cultural exchange to advance QAIC’s mission. Fatima holds an executive degree in Arts & Culture Strategy from the University of Pennsylvania\, and was awarded an M.A. from Georgetown University’s Communication\, Culture and Technology (CCT) Program. She received her B.A. in International Affairs and Human Development from Qatar University. \n\n\n\nLight refreshments and breakfast will be generously provided by the QAIC. \n\n\n\nThis program is free for ArtTable members and $10 for member guests and non-members.  \n\n\n\nNot a member? Join today! \n\n\n\nPlease review the below before registering:\n\n\n Health & Safety The use of face masks is recommended but not required.Please note that by registering for this event you consent to have your contact information shared with ArtTable to be used in the event that contact tracing is needed. Accessibility QAIC is a fully accessible building with ramp access and elevator access to every floor. Please contact us if there is any way we can make your visit more accommodating. You may also email Haley Carloni\, National Programs & Chapters Manager at ArtTable\, at programs@arttable.org if you require specific accommodations for this program.  Getting There The Qatar America Institute for Culture (QAIC) is located at 1319 18th Street NW\, Washington\, DC\, 20036 (directly southeast of Dupont Circle). Click here for directions from any location. QAIC is a short walk away from the Dupont Circle Metro Station (Red Line) and the N6\, L2 and 42 bus lines. \n\n\n\n\n\n\n\n\n\n\n\n\n\n\n\n\n\nImage: Fatima Al-Dosari\, courtesy of the speaker. \n\n\n\nThank you to ArtTable member Ashley Templeton for organizing this program.
URL:https://www.arttable.org/event/washington-dc-breakfasttable-with-fatima-al-dosari/
CATEGORIES:Washington, D.C.
ATTACH;FMTTYPE=image/png:https://www.arttable.org/wp-content/uploads/2022/12/Screen-Shot-2022-12-20-at-1.15.56-PM.png
END:VEVENT
END:VCALENDAR