BEGIN:VCALENDAR
VERSION:2.0
PRODID:-//ArtTable - ECPv6.15.20//NONSGML v1.0//EN
CALSCALE:GREGORIAN
METHOD:PUBLISH
X-ORIGINAL-URL:https://www.arttable.org
X-WR-CALDESC:Events for ArtTable
REFRESH-INTERVAL;VALUE=DURATION:PT1H
X-Robots-Tag:noindex
X-PUBLISHED-TTL:PT1H
BEGIN:VTIMEZONE
TZID:America/New_York
BEGIN:DAYLIGHT
TZOFFSETFROM:-0500
TZOFFSETTO:-0400
TZNAME:EDT
DTSTART:20230312T070000
END:DAYLIGHT
BEGIN:STANDARD
TZOFFSETFROM:-0400
TZOFFSETTO:-0500
TZNAME:EST
DTSTART:20231105T060000
END:STANDARD
BEGIN:DAYLIGHT
TZOFFSETFROM:-0500
TZOFFSETTO:-0400
TZNAME:EDT
DTSTART:20240310T070000
END:DAYLIGHT
BEGIN:STANDARD
TZOFFSETFROM:-0400
TZOFFSETTO:-0500
TZNAME:EST
DTSTART:20241103T060000
END:STANDARD
BEGIN:DAYLIGHT
TZOFFSETFROM:-0500
TZOFFSETTO:-0400
TZNAME:EDT
DTSTART:20250309T070000
END:DAYLIGHT
BEGIN:STANDARD
TZOFFSETFROM:-0400
TZOFFSETTO:-0500
TZNAME:EST
DTSTART:20251102T060000
END:STANDARD
END:VTIMEZONE
BEGIN:VEVENT
DTSTART;TZID=America/New_York:20240711T170000
DTEND;TZID=America/New_York:20240711T183000
DTSTAMP:20260423T235812
CREATED:20240622T032020Z
LAST-MODIFIED:20240702T015010Z
UID:19299-1720717200-1720722600@www.arttable.org
SUMMARY:New York\, NY | Chakaia Booker: Shaved Portions Installation Viewing and Artist Talk
DESCRIPTION:Image Credit: Alexandre Ayer\, Diversity Pictures\, for Garment District Alliance\n\n\n\nMeet ArtTable in Midtown for a viewing of Chakaia Booker’s Shaved Portions before heading over to the Elizabeth Foundation for the Arts’ Robert Blackburn Printmaking Workshop for a talk with the artist. Presented in New York as part of the Garment District Alliance’s public art program\, Shaved Portions was originally commissioned for the Oklahoma Center for Contemporary Art and previously exhibited at Washington University in St. Louis. A sculptor\, painter\, and photographer\, Booker is widely known for her use of repurposed materials\, like the rubber tires cut up and rewoven to construct Shaved Portions. The interwoven\, branching structure of the installation exemplifies Booker’s ability to push the limits of abstraction\, using unconventional media to evoke interconnectedness in the natural world and in society.  \n\n\n\nProgram Itinerary: \n\n\n\n\n5:00–5:40 pm: Chakaia Booker in conversation with artist Phoebe Collings-James at Shaved Portions (installed on Broadway between West 39th and West 40th Streets) \n\n\n\n5:40–6:00 pm: Move to EFA Robert Blackburn Printmaking Workshop (an 8-minute walk); cocktail reception\n\n\n\n6:00–6:30 pm: Chakaia Booker in conversation with Essye Klempner\, Director of Programing and Partnerships at Robert Blackburn Printmaking Workshop  \n\n\n\n\n \n\n\n\n \n\n\n\nProgram Admission: \n\n\n\n\nArtTable Member – $15\n\n\n\nFriend of Member – $20\n\n\n\nNon-Member – $25\n\n\n\n\nNot a member? Join today! \n\n\n\n\n\n\n\n\n\n\n\n\n\n\n\n\nThis Artist Talk is generously supported by the Pollock-Krasner Foundation. Special thanks to Alaina Simone for coordinating this program. \n\n\n\n\n\n\n\n\nChakaia Booker (born 1953 Newark\, NJ) is an internationally renowned and widely collected American sculptor known for creating monumental\, abstract works from recycled tires and stainless steel for both the gallery and outdoor public spaces. Booker’s works are contained in more than 40 public collections and have been exhibited across the US\, in Europe\, Africa\, and Asia. Booker was included in the 2000 Whitney Biennial and received a Guggenheim Fellowship in 2005. Recent public installation highlights include Millennium Park\, Chicago (2016-2018)\, Garment District Alliance Broadway Plazas\, New York\, NY (2014)\, and National Museum of Women in the Arts New York Avenue Sculpture Project\, Washington DC (2012). Chakaia Booker is represented by David Nolan Gallery. \n\n\n\nImage Credit: Alexandre Ayer\, Diversity Pictures\, for Garment District Alliance
URL:https://www.arttable.org/event/new-york-ny-chakaia-booker-shaved-portions-installation-viewing-and-artist-talk/
LOCATION:Elizabeth Foundation for the Arts\, Robert Blackburn Printmaking Workshop\, Address: 323 W 39th St\, New York\, New York\, 10018
CATEGORIES:New York,National
ATTACH;FMTTYPE=image/jpeg:https://www.arttable.org/wp-content/uploads/2024/06/c2a614d749336410cb27744e9fa50c27-1-scaled.jpeg
END:VEVENT
END:VCALENDAR