BEGIN:VCALENDAR
VERSION:2.0
PRODID:-//ArtTable - ECPv6.15.20//NONSGML v1.0//EN
CALSCALE:GREGORIAN
METHOD:PUBLISH
X-WR-CALNAME:ArtTable
X-ORIGINAL-URL:https://www.arttable.org
X-WR-CALDESC:Events for ArtTable
REFRESH-INTERVAL;VALUE=DURATION:PT1H
X-Robots-Tag:noindex
X-PUBLISHED-TTL:PT1H
BEGIN:VTIMEZONE
TZID:America/New_York
BEGIN:DAYLIGHT
TZOFFSETFROM:-0500
TZOFFSETTO:-0400
TZNAME:EDT
DTSTART:20230312T070000
END:DAYLIGHT
BEGIN:STANDARD
TZOFFSETFROM:-0400
TZOFFSETTO:-0500
TZNAME:EST
DTSTART:20231105T060000
END:STANDARD
BEGIN:DAYLIGHT
TZOFFSETFROM:-0500
TZOFFSETTO:-0400
TZNAME:EDT
DTSTART:20240310T070000
END:DAYLIGHT
BEGIN:STANDARD
TZOFFSETFROM:-0400
TZOFFSETTO:-0500
TZNAME:EST
DTSTART:20241103T060000
END:STANDARD
BEGIN:DAYLIGHT
TZOFFSETFROM:-0500
TZOFFSETTO:-0400
TZNAME:EDT
DTSTART:20250309T070000
END:DAYLIGHT
BEGIN:STANDARD
TZOFFSETFROM:-0400
TZOFFSETTO:-0500
TZNAME:EST
DTSTART:20251102T060000
END:STANDARD
END:VTIMEZONE
BEGIN:VEVENT
DTSTART;TZID=America/New_York:20240926T173000
DTEND;TZID=America/New_York:20240926T190000
DTSTAMP:20260421T204734
CREATED:20240816T225028Z
LAST-MODIFIED:20240822T061819Z
UID:23896-1727371800-1727377200@www.arttable.org
SUMMARY:Washington\, DC | MeetAT at HEMPHILL
DESCRIPTION:You’re invited to our upcoming MeetAT networking event on September 26\, graciously hosted by Mary Early\, Director at HEMPHILL. Enjoy light refreshments while catching up with fellow ArtTable members and making new connections. \n\n\n\nHEMPHILL was founded in Washington DC in 1993. The exhibition schedule features modern & contemporary art in all media by artists ranging from emerging to mid-career to modern masters. \n\n\n\nHEMPHILL’s Fall 2024 season opens with an exhibition of new paintings by Rush Baker IV (American\, b. 1987). Baker’s abstractions interleave the visual ephemera of Civil War-era photography\, maps\, and print media with layers of pigment\, resin\, and a contradiction of translucent and solid materials. Baker received a BFA from The Cooper Union for Advancement of Science and Art in 2009\, and an MFA from Yale University in 2012. Baker is a recipient of the 2024-25 Grant Wood Fellowship at The Grant Wood Art Colony of the University of Iowa. \n\n\n\nAre you considering joining ArtTable and want to know more about who we are and what we do? This is a great opportunity for potential members to get to know us! \n\n\n\nAdmission: \n\n\n\n\nFREE to ArtTable Members and their guests*\n\n\n\n\n*each member is allowed to bring one guest with them at this time \n\n\n\nNot a member? Join today!
URL:https://www.arttable.org/event/washington-dc-meetat-at-hemphill/
LOCATION:HEMPHILL Artworks\, 434 K STREET NW\, Washington\, DC\, 20001
CATEGORIES:New York
ATTACH;FMTTYPE=image/jpeg:https://www.arttable.org/wp-content/uploads/2024/08/unnamed-4-scaled.jpg
END:VEVENT
END:VCALENDAR