BEGIN:VCALENDAR
VERSION:2.0
PRODID:-//ArtTable - ECPv6.15.20//NONSGML v1.0//EN
CALSCALE:GREGORIAN
METHOD:PUBLISH
X-WR-CALNAME:ArtTable
X-ORIGINAL-URL:https://www.arttable.org
X-WR-CALDESC:Events for ArtTable
REFRESH-INTERVAL;VALUE=DURATION:PT1H
X-Robots-Tag:noindex
X-PUBLISHED-TTL:PT1H
BEGIN:VTIMEZONE
TZID:America/New_York
BEGIN:DAYLIGHT
TZOFFSETFROM:-0500
TZOFFSETTO:-0400
TZNAME:EDT
DTSTART:20240310T070000
END:DAYLIGHT
BEGIN:STANDARD
TZOFFSETFROM:-0400
TZOFFSETTO:-0500
TZNAME:EST
DTSTART:20241103T060000
END:STANDARD
BEGIN:DAYLIGHT
TZOFFSETFROM:-0500
TZOFFSETTO:-0400
TZNAME:EDT
DTSTART:20250309T070000
END:DAYLIGHT
BEGIN:STANDARD
TZOFFSETFROM:-0400
TZOFFSETTO:-0500
TZNAME:EST
DTSTART:20251102T060000
END:STANDARD
BEGIN:DAYLIGHT
TZOFFSETFROM:-0500
TZOFFSETTO:-0400
TZNAME:EDT
DTSTART:20260308T070000
END:DAYLIGHT
BEGIN:STANDARD
TZOFFSETFROM:-0400
TZOFFSETTO:-0500
TZNAME:EST
DTSTART:20261101T060000
END:STANDARD
END:VTIMEZONE
BEGIN:VEVENT
DTSTART;TZID=America/New_York:20250113T150000
DTEND;TZID=America/New_York:20250113T153000
DTSTAMP:20260422T040033
CREATED:20241216T163421Z
LAST-MODIFIED:20241216T163423Z
UID:35795-1736780400-1736782200@www.arttable.org
SUMMARY:Virtual | New Member Orientation & Member Portal Walkthrough
DESCRIPTION:12 pm PT / 1 pm MT / 2 pm CT / 3 pm ET\n\n\n\nWelcome new ArtTable members! Please join us for a virtual orientation session where you will meet other new members and learn how to take full advantage of all the ArtTable community has to offer. This program is free and open to all ArtTable members. \n\n\n\nWhether you are new to our community or have been a long-time member\, there’s no wrong time for a refresher course! Connect with other members in a casual and relaxed online environment and learn more about what our community is all about. \n\n\n\n\n\n\nNot a member? Join today! \n\n\n\n\n\n\n\n\n(You will receive an email confirmation containing the Zoom link.) \n\n\n\nAccessibility: Please note that this program will offer live closed captioning. If you require additional accommodations\, please email programs@arttable.org. \n\n\n\nCan’t join us for this new member orientation? Don’t worry\, we host virtual orientation sessions every 3 months! In the meantime\, we hope you can join us for another upcoming program or support other ArtTable initiatives!
URL:https://www.arttable.org/event/virtual-new-member-orientation-member-portal-walkthrough-5/
LOCATION:District of Columbia
CATEGORIES:National
ATTACH;FMTTYPE=image/gif:https://www.arttable.org/wp-content/uploads/2024/06/Program-Templates-Wide.gif
ORGANIZER;CN="ArtTable National":MAILTO:programs@arttable.org
END:VEVENT
BEGIN:VEVENT
DTSTART;TZID=America/New_York:20250124T100000
DTEND;TZID=America/New_York:20250201T120000
DTSTAMP:20260422T040033
CREATED:20250115T164124Z
LAST-MODIFIED:20250124T212753Z
UID:40320-1737712800-1738411200@www.arttable.org
SUMMARY:2025 The Winter Show | Insiders Preview & Early-Access Mornings
DESCRIPTION:For ArtTable Executive\, Circle\, Patron and Benefactor Levels only. \n\n\n\n\n\n\n\n\n\n\n\n\n\n\n\n\n\n\n\nArtTable Executive\, Circle\, Patron\, and Benefactor Members are invited to claim their complimentary pass for The Winter Show’s Insiders Preview & Early-Access Mornings. \n\n\n\nThe Winter Show is the premier art\, antiques\, and design fair in America\, featuring many of the world’s top experts in the fine and decorative arts. The Winter Show\, held annually at the Park Avenue Armory\, showcases a breadth of works spanning 5\,000 years presented by over 70 internationally renowned dealers.  \n\n\n\nThese passes provide complimentary access to the fair on the below dates and times: \n\n\n\nInsiders Preview: Friday\, January 24 | 10AM – 12PMEarly-Access: Friday\, January 31 | 10AM – 12PMEarly-Access: Saturday\, February 1 | *11AM – 12PMAdmission: \n\n\n\n\nFREE \n\n\n\nExecutive\, Circle\, Patron\, and Benefactor Members Only with possibility to open to lower levels if availability allows later.\n\n\n\n\nAll registrants will receive an email after registration here with how to get their ticket(s). These passes are only offered while supplies last. \n\n\n\nLocation: Park Avenue Armory643 Park Avenue New York\, NY 10065 \n\n\n\nIf you want to be eligible for this or other opportunities\, consider upgrading your membership! Reach out to membership@arttable.org with any questions. \n\n\n\n\n\n\nNot a member? Join today!
URL:https://www.arttable.org/event/2025-the-winter-show-insiders-preview-early-access-mornings/
LOCATION:District of Columbia
CATEGORIES:National
ATTACH;FMTTYPE=image/png:https://www.arttable.org/wp-content/uploads/2025/01/Screenshot-2025-01-15-at-11.19.39 AM.png
ORGANIZER;CN="ArtTable National":MAILTO:programs@arttable.org
END:VEVENT
END:VCALENDAR