BEGIN:VCALENDAR
VERSION:2.0
PRODID:-//ArtTable - ECPv6.15.20//NONSGML v1.0//EN
CALSCALE:GREGORIAN
METHOD:PUBLISH
X-ORIGINAL-URL:https://www.arttable.org
X-WR-CALDESC:Events for ArtTable
REFRESH-INTERVAL;VALUE=DURATION:PT1H
X-Robots-Tag:noindex
X-PUBLISHED-TTL:PT1H
BEGIN:VTIMEZONE
TZID:America/New_York
BEGIN:DAYLIGHT
TZOFFSETFROM:-0500
TZOFFSETTO:-0400
TZNAME:EDT
DTSTART:20210314T070000
END:DAYLIGHT
BEGIN:STANDARD
TZOFFSETFROM:-0400
TZOFFSETTO:-0500
TZNAME:EST
DTSTART:20211107T060000
END:STANDARD
BEGIN:DAYLIGHT
TZOFFSETFROM:-0500
TZOFFSETTO:-0400
TZNAME:EDT
DTSTART:20220313T070000
END:DAYLIGHT
BEGIN:STANDARD
TZOFFSETFROM:-0400
TZOFFSETTO:-0500
TZNAME:EST
DTSTART:20221106T060000
END:STANDARD
BEGIN:DAYLIGHT
TZOFFSETFROM:-0500
TZOFFSETTO:-0400
TZNAME:EDT
DTSTART:20230312T070000
END:DAYLIGHT
BEGIN:STANDARD
TZOFFSETFROM:-0400
TZOFFSETTO:-0500
TZNAME:EST
DTSTART:20231105T060000
END:STANDARD
END:VTIMEZONE
BEGIN:VEVENT
DTSTART;TZID=America/New_York:20221102T180000
DTEND;TZID=America/New_York:20221102T210000
DTSTAMP:20260425T092931
CREATED:20221019T163811Z
LAST-MODIFIED:20221020T210605Z
UID:10392-1667412000-1667422800@www.arttable.org
SUMMARY:Los Angeles\, CA | Wine & Conversation Networking Event\, with Sarah Russin\, Executive Director of LACE
DESCRIPTION:Please join ArtTable National at 6 PM on November 2 in Los Feliz for a special event hosted by Sarah Russin\, ArtTable member and Executive Director of LACE (Los Angeles Contemporary Exhibitions)\, a past host organization for the ArtTable Fellowship Program. Join Sarah and ArtTable Board Member and VP of Development\, Felice Axelrod\, for wine and conversation\, and be the first to hear a special announcement from ArtTable National. \n\n\n\nThis program is free and open to current ArtTable members and guests only\, though donations are appreciated. Registration is required. Members are strongly encouraged to bring a friend who is interested in learning more about ArtTable and connecting with our community! \n\n\n\nIf you would like to join this special event but are not yet an ArtTable member\, click here to learn more. \n\n\n\nPlease review the below before registering:\n\n\n\n Health & Safety Our host requests that all guests be fully vaccinated against Covid-19 at the time of the event. Face masks are optional. Please note that by registering for this event you consent to have your contact information shared with ArtTable to be used in the event that contact tracing is needed.  Accessibility Please note that there are a few steps at the entrance to the home. It is not wheelchair accessible. If you would like additional information about accessibility or need particular accommodations for this program\, please email Haley at programs@arttable.org.  Getting There This program takes place at a private residence. The exact address will be shared with registrants in advance of the program. \n\n\n\n\n\n\n\n\n\n\n\n\n\n\n\n\n\nThank you to Sarah Russin for generously hosting our group in her home\, and to Felice Axelrod for representing ArtTable National.
URL:https://www.arttable.org/event/los-angeles-ca-wine-conversation-networking-event-with-sarah-russin-executive-director-of-lace/
LOCATION:Los Angeles\, CA\, Los Angeles\, California\, 90027\, United States
CATEGORIES:National
ATTACH;FMTTYPE=image/png:https://www.arttable.org/wp-content/uploads/2022/10/Screen-Shot-2022-10-19-at-12.36.21-PM.png
ORGANIZER;CN="ArtTable National":MAILTO:programs@arttable.org
END:VEVENT
BEGIN:VEVENT
DTSTART;TZID=America/New_York:20221105T120000
DTEND;TZID=America/New_York:20221105T120000
DTSTAMP:20260425T092931
CREATED:20221018T161333Z
LAST-MODIFIED:20221101T141924Z
UID:10368-1667649600-1667649600@www.arttable.org
SUMMARY:Miami\, FL & Virtual | Conversations on Art and Estate Law: Art Estate Management
DESCRIPTION:Please join us for the first talk in a series on art estate law\, focused on art estate management! This program brings together experts in areas such as estate planning\, business succession\, risk management\, and philanthropy to discuss relevant topics in areas that impact private and institutional art collections. \n\n\n\nThis program seeks to make relevant information available and clear for those interested in areas such as law\, taxation\, and planned giving. The speakers will share their experiences dealing with art matters and interacting with the planning of relevant topics from professional and personal perspectives. \n\n\n\nSpeakers: \n\n\n\nMarie Elena Angulo\, Attorney and CollectorMaria Pia Leon Angell\, Director of Client Advisory Services at Forbes Family TrustMelissa Passman\, Senior Associate\, Day Pitney\n\n\n\nModerated by Nuria Richards\, Founder of Richards & Co. Art Management and Planning for Art Collectors. \n\n\n\nThis program will take place both in-person in Miami and virtually via livestream.  \n\n\n\nAdmission: \n\n\n\nVirtual \n\n\n\nArtTable Circle – FreeMembers – $10Non-Members – $15\n\n\n\nIn-Person \n\n\n\nMembers – $15Member Guest – $20\n\n\n\nNot a member? Join today! \n\n\n\nPlease review the below before registering:\n\n\n\n Health & Safety Face masks are optional in the gallery. Please note that by registering for this event you consent to have your contact information shared with ArtTable to be used in the event that contact tracing is needed.  Accessibility In Person - The gallery is wheelchair accessible. Virtual - This program will offer live closed captioning. If you would like additional information about accessibility or need particular accommodations for this program\, please email Haley at programs@arttable.org.  Getting There Emerson Dorsch Gallery is located at 5900 NW 2nd Avenue\, Miami\, FL 33127. Click here for directions from any location. \n\n\n\n\n\n\n\n\n\n\n\n\n\n\n\n\n\n\n\nAbout the Speakers\n\n\n\nMarie Elena Angulo is an attorney focusing on corporate finance. She has lived and worked in Buenos Aires\, London and New York. She is a patron of the Contemporary Art Society in London and founding patron of The Drawing Room. In Miami\, she supports Locust Projects\, The Bass\, PAMM\, and the Lowe Museum. Her collection focuses on works on paper and photography and includes drawings by Yoshitomo Nara\, Marcel Dzama\, Liliana Porter\, Teresa Lanceta\, and Mona Hatoum; and photographs by Gillian Wearing\, Martin Parr\, and Shirin Neshat. Since moving to Miami\, she has started collecting works by South Florida-based artists and has joined the Board of Directors of Oolite Arts\, Miami’s leading support organization for the virtual arts. \n\n\n\nAfter two decades of experience in the banking industry and living in seven different countries\, Maria Pia Leon Angell decided to leave banking to advise wealthy individuals and families more broadly on their financial and non-financial wealth management decisions\, following a holistic approach. She entered the family office realm at Greenspring Family Office\, followed by AM Global. Forbes Family Trust acquired the last one. Forbes manages US$ 30B from 250 families and has offices in the US and Europe. She considers her best strength is an appreciation of beauty which she fulfills through her love for nature and the arts. She has belonged to the acquisition committee of the Museum of Art of Lima\, Peru\, and currently serves as Chair of the Miami Music Project. This non-profit uses music education as an instrument for social change. \n\n\n\nMelissa A. Passman advises U.S. and non-U.S. taxpayers on a range of tax and estate planning matters. She assists clients with tax and trusts and estate matters\, including tax planning on corporate and partnership structures and transactions\, implementing estate planning strategies\, and planning around alternative assets. Melissa represents clients with federal and state tax matters\, including international and domestic income and transfer tax planning for entities and individuals\, as well as tax controversy. Melissa has extensive experience in art law matters and has been recognized for her counsel. She draws on her experience with a major international art gallery and other arts institutions to counsel collectors\, advisors\, galleries\, tax-exempt organizations\, and family offices. Melissa advises these clients on matters around the acquisition\, ownership\, and disposition of artwork\, including the formation of private museums and other charitable vehicles\, as well as multijurisdictional tax planning. She also works with artists on developing robust legacy planning structures. \n\n\n\nNuria Richards is an arts professional who is passionate about art collections and the way they positively impact the market and philanthropy. She attended the Fine Arts School at the National University in Mexico City and holds an Art Business Graduate degree from Sotheby’s Institute of Art – Claremont Graduate University where she extended her academic interests to management for corporate collections as well as Ph.D. classes in Economics and Cultural Studies Nuria supports young and emerging artists through the curatorial project Clandestina and is the founder of RICHARDS & Co\, an Art Management & Estate Planning Agency that evaluates and creates strategies for acquiring\, selling\, transferring\, and donating art. She works\, with families and individuals\, designing the sale and acquisition of works by artists like George Condo\, Diego Rivera\, Wifredo Lam\, Joaquín Torres-García\, Victor Vasarely\, and Leonora Carrington. Her relationship with art and involvement with museums\, galleries\, artists\, and collectors in the US and Mexico is the result of invested conversations creating cultural value around the practice of art collecting. Nuria’s goal is to create strategies for collectors to successfully fulfill their art interests\, while positively impacting the community. She has been a conduit between secondary and primary markets for a generation of artists and collectors that were caught in the middle of a rapidly changing art world. \n\n\n\n\n\n\n\nThank you to ArtTable Board Member Nuria Richards for organizing this program\, and to Emerson Dorsch Gallery for hosting us.
URL:https://www.arttable.org/event/miami-fl-virtual-conversations-on-art-and-estate-law-art-estate-management/
LOCATION:Emerson Dorsch Gallery\, 5900 NW 2nd Avenue\, Miami\, Florida\, 33127\, United States
CATEGORIES:New York
ATTACH;FMTTYPE=image/png:https://www.arttable.org/wp-content/uploads/2022/10/Screen-Shot-2022-10-20-at-1.45.10-PM.png
ORGANIZER;CN="ArtTable National":MAILTO:programs@arttable.org
END:VEVENT
BEGIN:VEVENT
DTSTART;TZID=America/New_York:20221114T173000
DTEND;TZID=America/New_York:20221114T173000
DTSTAMP:20260425T092931
CREATED:20221012T211333Z
LAST-MODIFIED:20221014T162438Z
UID:10335-1668447000-1668447000@www.arttable.org
SUMMARY:New York\, NY | Private Event\, by Invitation Only
DESCRIPTION:An evening of refreshments and reconnection with friends and colleagues. \n\n\n\nThis event is by invitation only. The address and any additional information will be shared with attendees in advance. \n\n\n\nOur sincerest thanks to our host for the evening\, former ArtTable Board President Annette Blaugrund\, PhD\, for welcoming us into her home.
URL:https://www.arttable.org/event/new-york-ny-private-event-invitation-only/
CATEGORIES:National
ATTACH;FMTTYPE=image/png:https://www.arttable.org/wp-content/uploads/2022/10/Screen-Shot-2022-10-14-at-12.02.18-PM.png
ORGANIZER;CN="ArtTable National":MAILTO:programs@arttable.org
END:VEVENT
END:VCALENDAR