BEGIN:VCALENDAR
VERSION:2.0
PRODID:-//ArtTable - ECPv6.15.20//NONSGML v1.0//EN
CALSCALE:GREGORIAN
METHOD:PUBLISH
X-ORIGINAL-URL:https://www.arttable.org
X-WR-CALDESC:Events for ArtTable
REFRESH-INTERVAL;VALUE=DURATION:PT1H
X-Robots-Tag:noindex
X-PUBLISHED-TTL:PT1H
BEGIN:VTIMEZONE
TZID:America/New_York
BEGIN:DAYLIGHT
TZOFFSETFROM:-0500
TZOFFSETTO:-0400
TZNAME:EDT
DTSTART:20240310T070000
END:DAYLIGHT
BEGIN:STANDARD
TZOFFSETFROM:-0400
TZOFFSETTO:-0500
TZNAME:EST
DTSTART:20241103T060000
END:STANDARD
BEGIN:DAYLIGHT
TZOFFSETFROM:-0500
TZOFFSETTO:-0400
TZNAME:EDT
DTSTART:20250309T070000
END:DAYLIGHT
BEGIN:STANDARD
TZOFFSETFROM:-0400
TZOFFSETTO:-0500
TZNAME:EST
DTSTART:20251102T060000
END:STANDARD
BEGIN:DAYLIGHT
TZOFFSETFROM:-0500
TZOFFSETTO:-0400
TZNAME:EDT
DTSTART:20260308T070000
END:DAYLIGHT
BEGIN:STANDARD
TZOFFSETFROM:-0400
TZOFFSETTO:-0500
TZNAME:EST
DTSTART:20261101T060000
END:STANDARD
END:VTIMEZONE
BEGIN:VEVENT
DTSTART;TZID=America/New_York:20250904T100000
DTEND;TZID=America/New_York:20250908T180000
DTSTAMP:20260421T190855
CREATED:20250730T143711Z
LAST-MODIFIED:20250730T184030Z
UID:64199-1756980000-1757354400@www.arttable.org
SUMMARY:2025 New York Armory Week | VIP Pass Packages
DESCRIPTION:ArtTable VIP Access Passes for fairs taking place during New York Armory Week are now live and available to all ArtTable members for purchase! To secure your pass\, click the button below\, login to the member portal and select your preferred available pass option. Participating fairs and remaining pass types indicated below; we look forward to seeing you in in New York in September! \n\n\n\nParticipating Fairs: \n\n\n\n\nThe Armory Show\n\n\n\nIndependent 20th Century\n\n\n\nArt on Paper\n\n\n\n\nVIP Access Pass Levels Available: \n\n\n\n\nPlatinum Level – $100\n\n2 Armory Show VIP passes\n\n\n\n2 Independent VIP passes\n\n\n\n2 Art on Paper VIP passes\n\n\n\n\n\nGold Level – $70\n\n1 Armory Show VIP pass\n\n\n\n1 Independent VIP pass\n\n\n\n2 Art on Paper VIP passes\n\n\n\n\n\nSilver Level – $40\n\n1 Armory Show VIP pass\n\n\n\n2 Art on Paper General Admission passes\n\n\n\n\n\nBronze Level – $20\n\n2 Art on Paper General Admission passes
URL:https://www.arttable.org/event/2025-new-york-armory-week-vip-pass-packages/
CATEGORIES:New York,National
ATTACH;FMTTYPE=image/jpeg:https://www.arttable.org/wp-content/uploads/2025/07/tullo-armoryshow2023.jpg
ORGANIZER;CN="ArtTable National":MAILTO:programs@arttable.org
END:VEVENT
BEGIN:VEVENT
DTSTART;TZID=America/New_York:20250925T180000
DTEND;TZID=America/New_York:20250925T200000
DTSTAMP:20260421T190855
CREATED:20250812T145758Z
LAST-MODIFIED:20260115T205548Z
UID:75527-1758823200-1758830400@www.arttable.org
SUMMARY:New York\, NY & Virtual | ArtTable's Annual Leadership Series | Art at Risk: Censorship and the Fight for Creative Freedom
DESCRIPTION:In today’s increasingly polarized cultural and political landscape\, arts professionals are grappling with urgent questions: How do institutions remain true to their missions while navigating the risks of presenting complex or controversial narratives? What role does censorship play in shaping the stories we tell through exhibitions\, acquisitions\, publications\, and programming? \n\n\n\nArtTable’s 2025 Annual Leadership Series returns with a timely conversation on the evolving responsibilities of arts institutions in an era of heightened scrutiny and constrained freedoms. This year’s panel features acclaimed artist Marilyn Minter\, cultural leader and curator Sara Reisman\, and art lawyer Katherine Wilson-Milne\, in conversation with moderator Elizabeth Larison\, Arts and Culture Advocacy Program Director at National Coalition Against Censorship. Scroll down to learn more about our panelists! \n\n\n\nTogether\, these thought leaders will explore the challenges and strategies involved in sustaining truthful\, inclusive storytelling across all areas of the arts ecosystem. From debates over funding and institutional values to efforts to protect curatorial independence and artistic freedom\, the discussion will offer insights for anyone invested in the future of the arts. \n\n\n\nWhether you work in a museum\, manage a gallery\, support artists through legal or philanthropic means\, or collect and preserve art\, this event offers critical perspectives and practical strategies for navigating today’s cultural crossroads.     \n\n\n\nJoin us on September 25\, 2025\, for this vital dialogue and an opportunity to engage with leading voices at the intersection of art and public discourse. Immediately following the panel\, we invite you to stay for a 40-minute in-person networking reception with light refreshments. This reception is a rare chance to continue the conversation with our esteemed panelists\, ask follow-up questions\, and build meaningful connections with fellow attendees across the arts industry.                                                                                                                             \n\n\n\nAbout the Annual Leadership Series: This signature ArtTable program was initially launched in 2016\, and since its inception\, the series has fostered engaging conversations among prominent women and nonbinary professionals. It has provided a platform for these influential voices to discuss the most pressing and relevant topics within our industries. \n\n\n\nProgram Admission: This program is open to ArtTable members and member guests through September 1. If space allows\, this program will open to the public on September 2. \n\n\n\n\nArtTable Members – $45\n\n\n\nArtTable Member Guest – $50\n\n\n\nGeneral Admission – $55\n\n\n\nVirtual (ArtTable Member) – $20\n\n\n\nVirtual (General Admission) – $30\n\n\n\n\nNot a member? Join today! \n\n\n\nAll program registration fees go toward event expenses and administrative costs for the organization. \n\n\n\n\n\n\n\n\n\n\n\n\n\n\n\n\n\n\n\n\n\n\nArtTable’s programs are made possible by the New York State Council on the Arts with the support of the Office of the Governor and the New York State Legislature. \n\n\n\n\n\n\n\n\n\n\n\n\nThis program is supported\, in part\, by public funds from the New York City Department of Cultural Affairs in partnership with the City Council.  \n\n\n\n\n\nMeet Our Panelists \n\n\n\n\n\n\n\n\n\nPhoto by Ryan McGinley\n\n\n\n\n\nMarilyn Minter (b. 1948\, USA) is an artist based in New York. Recent solo exhibitions include Marilyn Minter\, Lehmann Maupin\, Seoul\, South Korea (2024). Marilyn Minter\, LGDR\, New York\, NY (2023); Marilyn Minter\, Lehmann Maupin\, Hong Kong\, China (2021); All Wet\, Montpellier Contemporary (Mo.Co)\, Montpellier\, France (2021); Smash\, MoCA Westport\, Westport\, CT (2021); Fierce Women\, The Cube\, Moss Arts Center\, Virginia Polytechnic Institute and State University\, Blacksburg\, VA (2020); Nasty Woman\, SCAD Museum of Art\, Savannah GA (2020); among others. From 2015 through 2017\, her retrospective\, Marilyn Minter: Pretty/Dirty\, traveled to the Contemporary Arts Museum\, Houston (TX); the Museum of Contemporary Art\, Denver (CO); the Orange County Museum of Art\, Newport Beach (CA); and the Brooklyn Museum\, Brooklyn (NY). Her video Green Pink Caviar was on view at The Museum of Modern Art\, New York from 2010-2011.  Minter is the recipient of numerous prestigious awards\, including the Louis Comfort Tiffany Grant (2006) and the Guggenheim Fellowship (1998). Minter’s work is in the collections of many museums globally\, including the the Museum of Contemporary Art\, Los Angeles (CA); San Francisco Museum of Modern Art\, San Francisco (CA); (MA); the Museum of Modern Art\, New York (NY); the Perez Art Museum\, Miami (FL); the Tate Modern\, London (U.K); the Solomon R. Guggenheim Museum\, New York (NY); and the Whitney Museum of American Art\, New York (NY)\, among many others.Minter is represented by Salon 94\, New York\, Regen Projects\, Los Angeles\, Lehmann Maupin\, Hong Kong/Seoul. \n\n\n\n\n\n\n\nSara Reisman is a curator\, educator\, and writer based in New York City. Her curatorial and educational engagements have focused on socially engaged art\, the history of exhibition making\, public art\, both temporary and permanent\, artist books\, and the intersections between art and activism. She has held roles in curatorial\, philanthropic\, and educational capacities including Chief Curator at the National Academy of Design (2021-2025)\, Executive and Artistic Director of the Shelley & Donald Rubin Foundation (2014-2021)\, and Director of New York City’s Percent for Art Program (2008-2014)\, where she managed more than 100 permanent public art commissions across New York City’s five boroughs. Reisman has taught art history and contemporary art at the University of Pennsylvania and SUNY Purchase School of Art + Design\, and since 2016\, she has been on the faculty at the School of Visual Arts’ Curatorial Practice MA Program. In her most recent curatorial role at the National Academy\, she organized large-scale thematic exhibitions including Past as Prologue: A Historical Acknowledgment\, which examined the role of art in U.S. nation-building; Drawing as Practice; Consequences: A Parlor Game; Exercises in Imagination; and Sites of Impermanence. \n\n\n\n\n\nPhoto by Elia Alba\n\n\n\n\n\n\n\n\n\n\n\n\n\nKatie Wilson-Milne is a partner at the boutique law firm Schindler Cohen & Hochman LLP and advises clients in the art\, cultural and creative communities\, including art businesses\, dealers\, collectors\, artists\, and not-for-profit corporations in the art space on transactional matters related to the creation\, purchase\, sale\, lending and financing of art\, as well as gallery\, auction house\, and museum relationships and intellectual property matters. She also represents art clients in a wide variety of disputes including fraud\, breach of contract\, copyright infringement\, and artist gallery relationships. \n\n\n\nKatie also writes\, teaches and speaks publicly about a variety of art law related topics. Katie teaches art law at the Yale Law School and co-hosts of The Art Law Podcast with Steve Schindler. \n\n\n\n\n\n\n\nElizabeth Larison is our panel moderator for this program. Elizabeth is Director of the Arts & Culture Advocacy Program at the National Coalition Against Censorship\, a member of Don’t Delete Art\, and a curator. Prior to joining NCAC\, Elizabeth earned a BA in Human Rights and a MA in Curatorial Studies\, and worked for organizations including Flux Factory\, the Park Avenue Armory\, and apexart.  \n\n\n\n\n\n\n\n\n\n\n\n\n\n\n\n\nArtTable’s programs are made possible by the New York State Council on the Arts with the support of the Office of the Governor and the New York State Legislature. \n\n\n\n\n\nArtTable’s programs are made possible by the New York State Council on the Arts with the support of the Office of the Governor and the New York State Legislature.
URL:https://www.arttable.org/event/new-york-ny-arttables-annual-leadership-series-art-at-risk-censorship-and-the-fight-for-creative-freedom/
LOCATION:Full Address Provided Upon Registration\, Midtown Manhattan\, New York\, New York\, 10017\, United States
CATEGORIES:New York,National
ATTACH;FMTTYPE=image/png:https://www.arttable.org/wp-content/uploads/2025/08/Plain-for-website-5.png
END:VEVENT
END:VCALENDAR